<Capabilities xmlns="http://www.opengis.net/wmts/1.0" xmlns:ows="http://www.opengis.net/ows/1.1" xmlns:xlink="http://www.w3.org/1999/xlink" xmlns:xsi="http://www.w3.org/2001/XMLSchema-instance" xmlns:gml="http://www.opengis.net/gml" xsi:schemaLocation="http://www.opengis.net/wmts/1.0 http://schemas.opengis.net/wmts/1.0/wmtsGetCapabilities_response.xsd" version="1.0.0"><!-- Service Identification --> <ows:ServiceIdentification><ows:Title>AlternativeB_NonMotorized_Tile_Layer</ows:Title><ows:ServiceType>OGC WMTS</ows:ServiceType><ows:ServiceTypeVersion>1.0.0</ows:ServiceTypeVersion><Abstract xmlns="ows" /><ows:Keywords><Keyword xmlns="ows">Seward</Keyword><Keyword xmlns="ows">Glenn</Keyword><Keyword xmlns="ows">PEL</Keyword><Keyword xmlns="ows">Alternative</Keyword><Keyword xmlns="ows">B</Keyword><Keyword xmlns="ows">Non Motorized</Keyword><Keyword xmlns="ows">One &amp; another &amp;quot; third</Keyword></ows:Keywords></ows:ServiceIdentification><!-- Operations Metadata --><ows:OperationsMetadata><ows:Operation name="GetCapabilities"><ows:DCP><ows:HTTP><ows:Get xlink:href="https://services.arcgis.com/04HiymDgLlsbhaV4/ArcGIS/rest/services/AlternativeB_NonMotorized_Tile_Layer/MapServer/WMTS/1.0.0/WMTSCapabilities.xml"><ows:Constraint name="GetEncoding"><ows:AllowedValues> <ows:Value>RESTful</ows:Value></ows:AllowedValues></ows:Constraint> </ows:Get><ows:Get xlink:href="https://services.arcgis.com/04HiymDgLlsbhaV4/ArcGIS/rest/services/AlternativeB_NonMotorized_Tile_Layer/MapServer/WMTS?"> <ows:Constraint name="GetEncoding"><ows:AllowedValues><ows:Value>KVP</ows:Value></ows:AllowedValues></ows:Constraint></ows:Get></ows:HTTP></ows:DCP></ows:Operation><ows:Operation name="GetTile"><ows:DCP><ows:HTTP><ows:Get xlink:href="https://services.arcgis.com/04HiymDgLlsbhaV4/ArcGIS/rest/services/AlternativeB_NonMotorized_Tile_Layer/MapServer/WMTS/tile/1.0.0/"><ows:Constraint name="GetEncoding"><ows:AllowedValues><ows:Value>RESTful</ows:Value></ows:AllowedValues></ows:Constraint></ows:Get><ows:Get xlink:href="https://services.arcgis.com/04HiymDgLlsbhaV4/ArcGIS/rest/services/AlternativeB_NonMotorized_Tile_Layer/MapServer/WMTS?"><ows:Constraint name="GetEncoding"><ows:AllowedValues><ows:Value>KVP</ows:Value></ows:AllowedValues></ows:Constraint></ows:Get></ows:HTTP></ows:DCP></ows:Operation></ows:OperationsMetadata><!-- Contents --><Contents><!-- Layer --><Layer><ows:Title>AlternativeB_NonMotorized_Tile_Layer</ows:Title><ows:Identifier>AlternativeB_NonMotorized_Tile_Layer</ows:Identifier><ows:Metadata xlink:href="https://www.arcgis.com/sharing/rest/content/items/8c62e36fbb864613ab1b4c02e8bbe29b/info/metadata/metadata.xml?format=default" /><ows:BoundingBox crs="urn:ogc:def:crs:EPSG::3857"><ows:LowerCorner>-16685642.9972821 8671354.72180866</ows:LowerCorner><ows:UpperCorner>-16676592.7617545 8678091.89011645</ows:UpperCorner></ows:BoundingBox><ows:WGS84BoundingBox crs="urn:ogc:def:crs:OGC:2:84"><ows:LowerCorner>-149.889681298203 61.197677043152</ows:LowerCorner><ows:UpperCorner>-149.80838164921 61.2268219217357</ows:UpperCorner></ows:WGS84BoundingBox><Style isDefault="true"><ows:Title>Default Style</ows:Title><ows:Identifier>default</ows:Identifier></Style><Format>image/png</Format><TileMatrixSetLink><TileMatrixSet>default028mm</TileMatrixSet></TileMatrixSetLink><ResourceURL format="image/png" resourceType="tile" template="https://services.arcgis.com/04HiymDgLlsbhaV4/ArcGIS/rest/services/AlternativeB_NonMotorized_Tile_Layer/MapServer/WMTS/tile/1.0.0/AlternativeB_NonMotorized_Tile_Layer/{Style}/{TileMatrixSet}/{TileMatrix}/{TileRow}/{TileCol}.png"/></Layer><!-- Tile Matrix Set --><TileMatrixSet><ows:Title>TileMatrix using 0.28mm</ows:Title><ows:Abstract>The tile matrix set that has scale values calculated based on the dpi defined by OGC specification (dpi assumes 0.28mm as the physical distance of a pixel).</ows:Abstract><ows:Identifier>default028mm</ows:Identifier><ows:SupportedCRS>urn:ogc:def:crs:EPSG::3857</ows:SupportedCRS><TileMatrix><ows:Identifier>0</ows:Identifier><ScaleDenominator>559081145.864044</ScaleDenominator><TopLeftCorner>-20037508.342787 20037508.342787</TopLeftCorner><TileWidth>256</TileWidth> <TileHeight>256</TileHeight><MatrixWidth>1</MatrixWidth><MatrixHeight>1</MatrixHeight></TileMatrix><TileMatrix><ows:Identifier>1</ows:Identifier><ScaleDenominator>279540572.932021</ScaleDenominator><TopLeftCorner>-20037508.342787 20037508.342787</TopLeftCorner><TileWidth>256</TileWidth> <TileHeight>256</TileHeight><MatrixWidth>1</MatrixWidth><MatrixHeight>1</MatrixHeight></TileMatrix><TileMatrix><ows:Identifier>2</ows:Identifier><ScaleDenominator>139770286.466011</ScaleDenominator><TopLeftCorner>-20037508.342787 20037508.342787</TopLeftCorner><TileWidth>256</TileWidth> <TileHeight>256</TileHeight><MatrixWidth>1</MatrixWidth><MatrixHeight>2</MatrixHeight></TileMatrix><TileMatrix><ows:Identifier>3</ows:Identifier><ScaleDenominator>69885143.2330051</ScaleDenominator><TopLeftCorner>-20037508.342787 20037508.342787</TopLeftCorner><TileWidth>256</TileWidth> <TileHeight>256</TileHeight><MatrixWidth>1</MatrixWidth><MatrixHeight>3</MatrixHeight></TileMatrix><TileMatrix><ows:Identifier>4</ows:Identifier><ScaleDenominator>34942571.6165026</ScaleDenominator><TopLeftCorner>-20037508.342787 20037508.342787</TopLeftCorner><TileWidth>256</TileWidth> <TileHeight>256</TileHeight><MatrixWidth>2</MatrixWidth><MatrixHeight>5</MatrixHeight></TileMatrix><TileMatrix><ows:Identifier>5</ows:Identifier><ScaleDenominator>17471285.8082513</ScaleDenominator><TopLeftCorner>-20037508.342787 20037508.342787</TopLeftCorner><TileWidth>256</TileWidth> <TileHeight>256</TileHeight><MatrixWidth>3</MatrixWidth><MatrixHeight>10</MatrixHeight></TileMatrix><TileMatrix><ows:Identifier>6</ows:Identifier><ScaleDenominator>8735642.90412564</ScaleDenominator><TopLeftCorner>-20037508.342787 20037508.342787</TopLeftCorner><TileWidth>256</TileWidth> <TileHeight>256</TileHeight><MatrixWidth>6</MatrixWidth><MatrixHeight>19</MatrixHeight></TileMatrix><TileMatrix><ows:Identifier>7</ows:Identifier><ScaleDenominator>4367821.45206282</ScaleDenominator><TopLeftCorner>-20037508.342787 20037508.342787</TopLeftCorner><TileWidth>256</TileWidth> <TileHeight>256</TileHeight><MatrixWidth>11</MatrixWidth><MatrixHeight>37</MatrixHeight></TileMatrix><TileMatrix><ows:Identifier>8</ows:Identifier><ScaleDenominator>2183910.72603188</ScaleDenominator><TopLeftCorner>-20037508.342787 20037508.342787</TopLeftCorner><TileWidth>256</TileWidth> <TileHeight>256</TileHeight><MatrixWidth>22</MatrixWidth><MatrixHeight>73</MatrixHeight></TileMatrix><TileMatrix><ows:Identifier>9</ows:Identifier><ScaleDenominator>1091955.36301547</ScaleDenominator><TopLeftCorner>-20037508.342787 20037508.342787</TopLeftCorner><TileWidth>256</TileWidth> <TileHeight>256</TileHeight><MatrixWidth>43</MatrixWidth><MatrixHeight>146</MatrixHeight></TileMatrix><TileMatrix><ows:Identifier>10</ows:Identifier><ScaleDenominator>545977.681508207</ScaleDenominator><TopLeftCorner>-20037508.342787 20037508.342787</TopLeftCorner><TileWidth>256</TileWidth> <TileHeight>256</TileHeight><MatrixWidth>86</MatrixWidth><MatrixHeight>291</MatrixHeight></TileMatrix><TileMatrix><ows:Identifier>11</ows:Identifier><ScaleDenominator>272988.840753631</ScaleDenominator><TopLeftCorner>-20037508.342787 20037508.342787</TopLeftCorner><TileWidth>256</TileWidth> <TileHeight>256</TileHeight><MatrixWidth>172</MatrixWidth><MatrixHeight>581</MatrixHeight></TileMatrix><TileMatrix><ows:Identifier>12</ows:Identifier><ScaleDenominator>136494.420376815</ScaleDenominator><TopLeftCorner>-20037508.342787 20037508.342787</TopLeftCorner><TileWidth>256</TileWidth> <TileHeight>256</TileHeight><MatrixWidth>344</MatrixWidth><MatrixHeight>1162</MatrixHeight></TileMatrix><TileMatrix><ows:Identifier>13</ows:Identifier><ScaleDenominator>68247.2101884077</ScaleDenominator><TopLeftCorner>-20037508.342787 20037508.342787</TopLeftCorner><TileWidth>256</TileWidth> <TileHeight>256</TileHeight><MatrixWidth>688</MatrixWidth><MatrixHeight>2324</MatrixHeight></TileMatrix><TileMatrix><ows:Identifier>14</ows:Identifier><ScaleDenominator>34123.6050942039</ScaleDenominator><TopLeftCorner>-20037508.342787 20037508.342787</TopLeftCorner><TileWidth>256</TileWidth> <TileHeight>256</TileHeight><MatrixWidth>1375</MatrixWidth><MatrixHeight>4647</MatrixHeight></TileMatrix><TileMatrix><ows:Identifier>15</ows:Identifier><ScaleDenominator>17061.8025475744</ScaleDenominator><TopLeftCorner>-20037508.342787 20037508.342787</TopLeftCorner><TileWidth>256</TileWidth> <TileHeight>256</TileHeight><MatrixWidth>2749</MatrixWidth><MatrixHeight>9294</MatrixHeight></TileMatrix><TileMatrix><ows:Identifier>16</ows:Identifier><ScaleDenominator>8530.9012737872</ScaleDenominator><TopLeftCorner>-20037508.342787 20037508.342787</TopLeftCorner><TileWidth>256</TileWidth> <TileHeight>256</TileHeight><MatrixWidth>5497</MatrixWidth><MatrixHeight>18588</MatrixHeight></TileMatrix><TileMatrix><ows:Identifier>17</ows:Identifier><ScaleDenominator>4265.45063642113</ScaleDenominator><TopLeftCorner>-20037508.342787 20037508.342787</TopLeftCorner><TileWidth>256</TileWidth> <TileHeight>256</TileHeight><MatrixWidth>10993</MatrixWidth><MatrixHeight>37175</MatrixHeight></TileMatrix><TileMatrix><ows:Identifier>18</ows:Identifier><ScaleDenominator>2132.72531868304</ScaleDenominator><TopLeftCorner>-20037508.342787 20037508.342787</TopLeftCorner><TileWidth>256</TileWidth> <TileHeight>256</TileHeight><MatrixWidth>21985</MatrixWidth><MatrixHeight>74350</MatrixHeight></TileMatrix><TileMatrix><ows:Identifier>19</ows:Identifier><ScaleDenominator>1066.36265886905</ScaleDenominator><TopLeftCorner>-20037508.342787 20037508.342787</TopLeftCorner><TileWidth>256</TileWidth> <TileHeight>256</TileHeight><MatrixWidth>43970</MatrixWidth><MatrixHeight>148700</MatrixHeight></TileMatrix><TileMatrix><ows:Identifier>20</ows:Identifier><ScaleDenominator>533.181329434524</ScaleDenominator><TopLeftCorner>-20037508.342787 20037508.342787</TopLeftCorner><TileWidth>256</TileWidth> <TileHeight>256</TileHeight><MatrixWidth>87940</MatrixWidth><MatrixHeight>297400</MatrixHeight></TileMatrix><TileMatrix><ows:Identifier>21</ows:Identifier><ScaleDenominator>266.590664717262</ScaleDenominator><TopLeftCorner>-20037508.342787 20037508.342787</TopLeftCorner><TileWidth>256</TileWidth> <TileHeight>256</TileHeight><MatrixWidth>175879</MatrixWidth><MatrixHeight>594799</MatrixHeight></TileMatrix><TileMatrix><ows:Identifier>22</ows:Identifier><ScaleDenominator>133.295332358631</ScaleDenominator><TopLeftCorner>-20037508.342787 20037508.342787</TopLeftCorner><TileWidth>256</TileWidth> <TileHeight>256</TileHeight><MatrixWidth>351758</MatrixWidth><MatrixHeight>1189597</MatrixHeight></TileMatrix></TileMatrixSet></Contents><ServiceMetadataURL xlink:href="https://services.arcgis.com/04HiymDgLlsbhaV4/ArcGIS/rest/services/AlternativeB_NonMotorized_Tile_Layer/MapServer/WMTS/1.0.0/WMTSCapabilities.xml"/></Capabilities>