{
  "id" : 72804, 
  "name" : "AlternativeC2_NonMotorized_Tile_Layer", 
  "server" : "04HiymDgLlsbhaV4", 
  "serviceItemId" : "d555bef549a34360aa666e33219d1067", 
  "ownerUserName" : "Scott.Norton@hdrinc.com_HDR", 
  "serviceDescription" : "", 
  "mapName" : "AlternativeC2_NonMotorized_Tile_Layer", 
  "description" : "", 
  "abstract" : "", 
  "metadataLink" : "https://www.arcgis.com/sharing/rest/content/items/d555bef549a34360aa666e33219d1067/info/metadata/metadata.xml?format=default", 
  "keywords" : [
    "Seward", 
    "Glenn", 
    "PEL", 
    "Alternative", 
    "C2", 
    "Non Motorized"
  ], 
  "copyrightText" : "", 
  "layers" : [
    {
      "id" : 833, 
      "name" : "Alternative_C2_Polygons_v01_04", 
      "parentLayerId" : -1, 
      "defaultVisibility" : true, 
      "subLayerIds" : null, 
      "minScale" : 0, 
      "maxScale" : 0, 
      "type" : "Feature Layer", 
      "geometryType" : "esriGeometryPolygon"
    }, 
    {
      "id" : 820, 
      "name" : "LOCAL ROADS OVER HWY", 
      "parentLayerId" : -1, 
      "defaultVisibility" : true, 
      "subLayerIds" : null, 
      "minScale" : 0, 
      "maxScale" : 0, 
      "type" : "Feature Layer", 
      "geometryType" : "esriGeometryPolyline"
    }, 
    {
      "id" : 807, 
      "name" : "Alternative_C2_Polygons_v01_04", 
      "parentLayerId" : -1, 
      "defaultVisibility" : true, 
      "subLayerIds" : null, 
      "minScale" : 0, 
      "maxScale" : 0, 
      "type" : "Feature Layer", 
      "geometryType" : "esriGeometryPolygon"
    }, 
    {
      "id" : 794, 
      "name" : "DESIGN", 
      "parentLayerId" : -1, 
      "defaultVisibility" : true, 
      "subLayerIds" : null, 
      "minScale" : 0, 
      "maxScale" : 0, 
      "type" : "Feature Layer", 
      "geometryType" : "esriGeometryPolyline"
    }, 
    {
      "id" : 781, 
      "name" : "BRIDGES UNDER HWY", 
      "parentLayerId" : -1, 
      "defaultVisibility" : true, 
      "subLayerIds" : null, 
      "minScale" : 0, 
      "maxScale" : 0, 
      "type" : "Feature Layer", 
      "geometryType" : "esriGeometryPolygon"
    }, 
    {
      "id" : 768, 
      "name" : "LOCAL ROADS OVER HWY BACKING", 
      "parentLayerId" : -1, 
      "defaultVisibility" : true, 
      "subLayerIds" : null, 
      "minScale" : 0, 
      "maxScale" : 0, 
      "type" : "Feature Layer", 
      "geometryType" : "esriGeometryPolyline"
    }, 
    {
      "id" : 755, 
      "name" : "DESIGN BACKING", 
      "parentLayerId" : -1, 
      "defaultVisibility" : true, 
      "subLayerIds" : null, 
      "minScale" : 0, 
      "maxScale" : 0, 
      "type" : "Feature Layer", 
      "geometryType" : "esriGeometryPolyline"
    }, 
    {
      "id" : 742, 
      "name" : "LOCAL ROADS UNDER HWY", 
      "parentLayerId" : -1, 
      "defaultVisibility" : true, 
      "subLayerIds" : null, 
      "minScale" : 0, 
      "maxScale" : 0, 
      "type" : "Feature Layer", 
      "geometryType" : "esriGeometryPolyline"
    }, 
    {
      "id" : 729, 
      "name" : "LOCAL ROADS UNDER HWY BACKING", 
      "parentLayerId" : -1, 
      "defaultVisibility" : true, 
      "subLayerIds" : null, 
      "minScale" : 0, 
      "maxScale" : 0, 
      "type" : "Feature Layer", 
      "geometryType" : "esriGeometryPolyline"
    }
  ], 
  "tables" : [], 
  "spatialReference" : {
    "wkid" : 102100, 
    "latestWkid" : 3857
  }, 
  "singleFusedMapCache" : true, 
  "tileInfo" : {"rows":256,"cols":256,"dpi":96,"preciseDpi":96,"format":"PNG32","storageFormat":"esriMapCacheStorageModeExploded","packetSize":128,"compressionQuality":0,"antialiasing":true,"origin":{"x":-20037508.342787,"y":20037508.342787},"spatialReference":{"wkid":102100,"latestWkid":3857},"lods":[{"level":0,"resolution":156543.033928,"scale":591657527.591555},{"level":1,"resolution":78271.5169639999,"scale":295828763.795777},{"level":2,"resolution":39135.7584820001,"scale":147914381.897889},{"level":3,"resolution":19567.8792409999,"scale":73957190.948944},{"level":4,"resolution":9783.93962049996,"scale":36978595.474472},{"level":5,"resolution":4891.96981024998,"scale":18489297.737236},{"level":6,"resolution":2445.98490512499,"scale":9244648.868618},{"level":7,"resolution":1222.99245256249,"scale":4622324.434309},{"level":8,"resolution":611.49622628138,"scale":2311162.217155},{"level":9,"resolution":305.748113140558,"scale":1155581.108577},{"level":10,"resolution":152.874056570411,"scale":577790.554289},{"level":11,"resolution":76.4370282850732,"scale":288895.277144},{"level":12,"resolution":38.2185141425366,"scale":144447.638572},{"level":13,"resolution":19.1092570712683,"scale":72223.819286},{"level":14,"resolution":9.55462853563415,"scale":36111.909643},{"level":15,"resolution":4.77731426794937,"scale":18055.954822},{"level":16,"resolution":2.38865713397468,"scale":9027.977411},{"level":17,"resolution":1.19432856685505,"scale":4513.988705},{"level":18,"resolution":0.597164283559817,"scale":2256.994353},{"level":19,"resolution":0.298582141647617,"scale":1128.497176},{"level":20,"resolution":0.14929107082380833,"scale":564.248588},{"level":21,"resolution":0.074645535411904163,"scale":282.124294},{"level":22,"resolution":0.037322767705952081,"scale":141.062147}]}, 
  "minLOD" : 13, 
  "maxLOD" : 22, 
  "initialExtent" : {
    "xmin" : -16685776.649967885, 
    "ymin" : 8671374.3214011248, 
    "xmax" : -16676552.104242852, 
    "ymax" : 8678632.5071000978, 
    "spatialReference" : {
      "wkid" : 102100, 
      "latestWkid" : 3857
    }
  }, 
  "fullExtent" : {
    "xmin" : -16685776.649967885, 
    "ymin" : 8671374.3214011248, 
    "xmax" : -16676552.104242852, 
    "ymax" : 8678632.5071000978, 
    "spatialReference" : {
      "wkid" : 102100, 
      "latestWkid" : 3857
    }
  }, 
  "units" : "esriMeters", 
  "supportedImageFormatTypes" : "", 
  "created" : null, 
  "modified" : null, 
  "status" : "created", 
  "access" : "SECURE", 
  "minScale" : 121733, 
  "maxScale" : 125, 
  "exportTilesAllowed" : false, 
  "maxExportTilesCount" : 100000, 
  "cacheOnDemand" : true, 
  "capabilities" : "Map,ChangeTracking,TilesOnly,Tilemap", 
  "type" : "MapServer", 
  "currentVersion" : 12, 
  "changeTrackingInfo" : 
  {
    "lastSyncDate" : 1706906530641, 
    "layerServerGens" : [
      {
        "id" : 833, 
        "minServerGen" : 47554408, 
        "serverGen" : 47554408
      }, 
      {
        "id" : 820, 
        "minServerGen" : 47554408, 
        "serverGen" : 47554408
      }, 
      {
        "id" : 807, 
        "minServerGen" : 47554408, 
        "serverGen" : 47554408
      }, 
      {
        "id" : 794, 
        "minServerGen" : 47554408, 
        "serverGen" : 47554408
      }, 
      {
        "id" : 781, 
        "minServerGen" : 47554408, 
        "serverGen" : 47554408
      }, 
      {
        "id" : 768, 
        "minServerGen" : 47554408, 
        "serverGen" : 47554408
      }, 
      {
        "id" : 755, 
        "minServerGen" : 47554408, 
        "serverGen" : 47554408
      }, 
      {
        "id" : 742, 
        "minServerGen" : 47554408, 
        "serverGen" : 47554408
      }, 
      {
        "id" : 729, 
        "minServerGen" : 47554408, 
        "serverGen" : 47554408
      }
    ]
  }, 
  
  "scheduleInfo" : {
    "name" : "", 
    "startAt" : 1706906651201, 
    "state" : "enabled", 
    
    "recurrenceInfo" : {
      "frequency" : "minute", 
      "interval" : 2
    }
  }
}