{
  "id" : 116548, 
  "name" : "Working_Lands_Characteristics_Site_Class_Feature", 
  "server" : "QVENGdaPbd4LUkLV", 
  "serviceItemId" : "fa723ea51cd942acb4252d18f4d5080d", 
  "ownerUserName" : "erin_butts@fws.gov_fws", 
  "serviceDescription" : "\u003cDIV STYLE=\"text-align:Left;\"\u003e\u003cDIV\u003e\u003cP\u003e\u003cSPAN\u003eOverview of Spatial Design Goals and Process: A key principle of Landscape Conservation Design is that  “Stakeholders design landscape configurations that promote resilient and sustainable social-ecological systems” (Campellone et al, 2018).  From Campellone et al: (2018): “A beneficial aspect of stakeholder engagement in spatial design is the development of a deeper trust that the models used to identify priorities integrate their interests with other information and knowledge, which furthers social learning and collective agreement on resource allocation and landscape objectives (Melillo et al., 2014). Overall, the co-development of a spatial design helps organize landscape elements while maintaining and improving stakeholder buy-in (De Groot, Alkemade, Braat, Hein, &amp;amp; Willemen, 2009; Melillo et al., 2014).”Analytical Question:  Create a prototype landscape design that integrates multiple values on the landscape including wildlife conservation, forest and agriculture production, recreation, cultural and human health.  The prototype will be created based upon readily available data. This analysis will be used to understand landscape-scale conservation and working landscape priorities, while incorporating other important values. The blueprint will be used to represent a sustainable landscape in the future. We can include social network perspective as part of a potential suite of design products, such as implementation capacity.Desired Outcome:  A map or maps that represents a balance of multiple values on the landscape, with a focus on conservation and working landscape values.\u003c/SPAN\u003e\u003c/P\u003e\u003c/DIV\u003e\u003c/DIV\u003e", 
  "mapName" : "Working_Lands_Characteristics_Site_Class_Feature", 
  "description" : "\u003cDIV STYLE=\"text-align:Left;\"\u003e\u003cDIV\u003e\u003cP\u003e\u003cSPAN\u003eOverview of Spatial Design Goals and Process: A key principle of Landscape Conservation Design is that  “Stakeholders design landscape configurations that promote resilient and sustainable social-ecological systems” (Campellone et al, 2018).  From Campellone et al: (2018): “A beneficial aspect of stakeholder engagement in spatial design is the development of a deeper trust that the models used to identify priorities integrate their interests with other information and knowledge, which furthers social learning and collective agreement on resource allocation and landscape objectives (Melillo et al., 2014). Overall, the co-development of a spatial design helps organize landscape elements while maintaining and improving stakeholder buy-in (De Groot, Alkemade, Braat, Hein, &amp;amp; Willemen, 2009; Melillo et al., 2014).”Analytical Question:  Create a prototype landscape design that integrates multiple values on the landscape including wildlife conservation, forest and agriculture production, recreation, cultural and human health.  The prototype will be created based upon readily available data. This analysis will be used to understand landscape-scale conservation and working landscape priorities, while incorporating other important values. The blueprint will be used to represent a sustainable landscape in the future. We can include social network perspective as part of a potential suite of design products, such as implementation capacity.Desired Outcome:  A map or maps that represents a balance of multiple values on the landscape, with a focus on conservation and working landscape values.\u003c/SPAN\u003e\u003c/P\u003e\u003c/DIV\u003e\u003c/DIV\u003e", 
  "abstract" : "", 
  "metadataLink" : "", 
  "keywords" : [], 
  "copyrightText" : "Tom Miewald, USFWS; Erin Butts, USFWS; John Mankowski, Mankowski Environmental.", 
  "layers" : [
    {
      "id" : 0, 
      "name" : "Site Class", 
      "parentLayerId" : -1, 
      "defaultVisibility" : true, 
      "subLayerIds" : null, 
      "minScale" : 0, 
      "maxScale" : 0, 
      "type" : "Feature Layer", 
      "geometryType" : "esriGeometryPolygon"
    }
  ], 
  "tables" : [], 
  "spatialReference" : {
    "wkid" : 102100, 
    "latestWkid" : 3857
  }, 
  "singleFusedMapCache" : true, 
  "tileInfo" : {"rows":256,"cols":256,"dpi":96,"preciseDpi":96,"format":"PNG32","storageFormat":"esriMapCacheStorageModeExploded","packetSize":128,"compressionQuality":0,"antialiasing":true,"origin":{"x":-20037508.342787,"y":20037508.342787},"spatialReference":{"wkid":102100,"latestWkid":3857},"lods":[{"level":0,"resolution":156543.033928,"scale":591657527.591555},{"level":1,"resolution":78271.5169639999,"scale":295828763.795777},{"level":2,"resolution":39135.7584820001,"scale":147914381.897889},{"level":3,"resolution":19567.8792409999,"scale":73957190.948944},{"level":4,"resolution":9783.93962049996,"scale":36978595.474472},{"level":5,"resolution":4891.96981024998,"scale":18489297.737236},{"level":6,"resolution":2445.98490512499,"scale":9244648.868618},{"level":7,"resolution":1222.99245256249,"scale":4622324.434309},{"level":8,"resolution":611.49622628138,"scale":2311162.217155},{"level":9,"resolution":305.748113140558,"scale":1155581.108577},{"level":10,"resolution":152.874056570411,"scale":577790.554289},{"level":11,"resolution":76.4370282850732,"scale":288895.277144},{"level":12,"resolution":38.2185141425366,"scale":144447.638572},{"level":13,"resolution":19.1092570712683,"scale":72223.819286},{"level":14,"resolution":9.55462853563415,"scale":36111.909643},{"level":15,"resolution":4.77731426794937,"scale":18055.954822},{"level":16,"resolution":2.38865713397468,"scale":9027.977411},{"level":17,"resolution":1.19432856685505,"scale":4513.988705},{"level":18,"resolution":0.597164283559817,"scale":2256.994353},{"level":19,"resolution":0.298582141647617,"scale":1128.497176},{"level":20,"resolution":0.14929107082380833,"scale":564.248588},{"level":21,"resolution":0.074645535411904163,"scale":282.124294},{"level":22,"resolution":0.037322767705952081,"scale":141.062147}]}, 
  "minLOD" : 6, 
  "maxLOD" : 22, 
  "initialExtent" : {
    "xmin" : -14467306.226074044, 
    "ymin" : 5338891.7241057009, 
    "xmax" : -12953168.128332168, 
    "ymax" : 6024403.015378831, 
    "spatialReference" : {
      "wkid" : 102100, 
      "latestWkid" : 3857
    }
  }, 
  "fullExtent" : {
    "xmin" : -14145050.327637902, 
    "ymin" : 5129267.5501272418, 
    "xmax" : -13307660.636208473, 
    "ymax" : 6274180.6861472083, 
    "spatialReference" : {
      "wkid" : 102100, 
      "latestWkid" : 3857
    }
  }, 
  "units" : "esriMeters", 
  "supportedImageFormatTypes" : "", 
  "created" : null, 
  "modified" : null, 
  "status" : "created", 
  "access" : "SECURE", 
  "minScale" : 9972387, 
  "maxScale" : 141.062147, 
  "exportTilesAllowed" : false, 
  "maxExportTilesCount" : 100000, 
  "cacheOnDemand" : true, 
  "capabilities" : "Map,ChangeTracking,TilesOnly,Tilemap", 
  "type" : "MapServer", 
  "currentVersion" : 12, 
  "changeTrackingInfo" : 
  {
    "lastSyncDate" : 1595438507921, 
    "layerServerGens" : [
      {
        "id" : 0, 
        "minServerGen" : 26629835, 
        "serverGen" : 35552661
      }
    ]
  }, 
  
  "scheduleInfo" : {
    "name" : "", 
    "startAt" : 1595438506759, 
    "state" : "enabled", 
    
    "recurrenceInfo" : {
      "frequency" : "minute", 
      "interval" : 2
    }
  }
}