Current Version
Service Description:
Abstract: This view contains cancer risk estimates only for the 2017 AirToxScreen. The dataset contains cancer risk estimates by pollutant and by emissions source group for each U.S. census tract. The census tract boundaries and attributes are from a dataset published by Esri in 2013 for the 2010 decennial census.
The cancer risk, estimates are based on air quality and dispersion modeling of emissions from the 2017 AirToxScreen. More details on how AirToxScreen is developed are available at the AirToxScreen Website.
Metadata URI: N/A
Keywords: Air, Risk, Toxics, United States, Environment, Exposure
Map Name: Cancer_Risk_(2017)
Capabilities: Map,TilesOnly,Tilemap
Description: This view contains cancer risk estimates only for the 2017 AirToxScreen. The dataset contains cancer risk estimates by pollutant and by emissions source group for each U.S. census tract. The census tract boundaries and attributes are from a dataset published by Esri in 2013 for the 2010 decennial census.
The cancer risk, estimates are based on air quality and dispersion modeling of emissions from the 2017 AirToxScreen. More details on how AirToxScreen is developed are available at the AirToxScreen Website.
Copyright Text:
Spatial Reference: 102100 (3857)
Legend
All Layers and Tables
Layers:
Single Fused Map Cache: true
Export Tiles Allowed: False
Max Tiles Export Count: 100000
Cache on Demand: False
Tile Info:
- Height: 256
- Width: 256
- DPI: 96
- Levels of Detail: (# Levels: 23)
- Level ID: 0 [Start Tile,End Tile]
- Resolution: 156543.033928
- Scale: 591657527.591555
- Level ID: 1 [Start Tile,End Tile]
- Resolution: 78271.5169639999
- Scale: 295828763.795777
- Level ID: 2 [Start Tile,End Tile]
- Resolution: 39135.7584820001
- Scale: 147914381.897889
- Level ID: 3 [Start Tile,End Tile]
- Resolution: 19567.8792409999
- Scale: 73957190.948944
- Level ID: 4 [Start Tile,End Tile]
- Resolution: 9783.93962049996
- Scale: 36978595.474472
- Level ID: 5 [Start Tile,End Tile]
- Resolution: 4891.96981024998
- Scale: 18489297.737236
- Level ID: 6 [Start Tile,End Tile]
- Resolution: 2445.98490512499
- Scale: 9244648.868618
- Level ID: 7 [Start Tile,End Tile]
- Resolution: 1222.99245256249
- Scale: 4622324.434309
- Level ID: 8 [Start Tile,End Tile]
- Resolution: 611.49622628138
- Scale: 2311162.217155
- Level ID: 9 [Start Tile,End Tile]
- Resolution: 305.748113140558
- Scale: 1155581.108577
- Level ID: 10 [Start Tile,End Tile]
- Resolution: 152.874056570411
- Scale: 577790.554289
- Level ID: 11 [Start Tile,End Tile]
- Resolution: 76.4370282850732
- Scale: 288895.277144
- Level ID: 12 [Start Tile,End Tile]
- Resolution: 38.2185141425366
- Scale: 144447.638572
- Level ID: 13 [Start Tile,End Tile]
- Resolution: 19.1092570712683
- Scale: 72223.819286
- Level ID: 14 [Start Tile,End Tile]
- Resolution: 9.55462853563415
- Scale: 36111.909643
- Level ID: 15 [Start Tile,End Tile]
- Resolution: 4.77731426794937
- Scale: 18055.954822
- Level ID: 16 [Start Tile,End Tile]
- Resolution: 2.38865713397468
- Scale: 9027.977411
- Level ID: 17 [Start Tile,End Tile]
- Resolution: 1.19432856685505
- Scale: 4513.988705
- Level ID: 18 [Start Tile,End Tile]
- Resolution: 0.597164283559817
- Scale: 2256.994353
- Level ID: 19 [Start Tile,End Tile]
- Resolution: 0.298582141647617
- Scale: 1128.497176
- Level ID: 20 [Start Tile,End Tile]
- Resolution: 0.149291070823808
- Scale: 564.248588
- Level ID: 21 [Start Tile,End Tile]
- Resolution: 0.0746455354119042
- Scale: 282.124294
- Level ID: 22 [Start Tile,End Tile]
- Resolution: 0.0373227677059521
- Scale: 141.062147
- Format: PNG32
- Compression Quality: 0
- Origin:
- X: -20037508.342787
- Y: 20037508.342787
Spatial Reference: 102100 (3857)
Initial Extent:
XMin: -19942590.6658074
YMin: 1999417.77980057
XMax: 20012847.1794253
YMax: 11537127.3334743
Full Extent:
XMin: -179.147340000341
YMin: 17.6739310000157
XMax: 179.77846500026
YMax: 71.390482064196
Min. Scale: 147914382
Max. Scale: 25000000
Min LOD: 2
Max LOD: 4
Units: esriMeters
Supported Image Format Types:
Supported Operations:
Export Tiles