{
  "id" : 137412, 
  "name" : "Workers_per_Job_Equilibrium_Index_Tiles", 
  "server" : "cJ9YHowT8TU7DUyn", 
  "serviceItemId" : "9ad5a36be2954eaa80134af240cc9dcb", 
  "ownerUserName" : "enviroatlas_EPA", 
  "serviceDescription" : "\u003cdiv style='text-align:left;'\u003e\u003cp\u003e\u003ca href='https://edg.epa.gov/metadata/catalog/search/resource/details.page?uuid=%7B670e195f-b629-48c9-aa94-1ec06cda2bca%7D' style='font-size:12pt; text-decoration:underline;' rel='nofollow ugc'\u003e\u003cspan\u003eAccessibility Metadata\u003c/span\u003e\u003c/a\u003e\u003cspan style='font-size:12pt;'\u003e \u003c/span\u003e\u003cspan style='font-size:16px;'\u003eThis map illustrates an index that measures the balance between workers and jobs within each census block group. An index value close to one indicates a balance between resident workers and jobs.\u003c/span\u003e\u003c/p\u003e\u003cp\u003e\u003cspan style='font-size:12pt;'\u003eThis EnviroAtlas hosted feature layer includes data that illustrate accessibility, demographics, employment, and housing characteristics for the Conterminous United States, Alaska, Hawaii, and Puerto Rico.\u003c/span\u003e\u003c/p\u003e\u003cp style='font-size:12pt;'\u003e\u003cspan\u003e\u003c/span\u003e\u003c/p\u003e\u003cp style='font-size:12pt;'\u003e\u003cspan\u003eThis dataset was produced by the US EPA to support research and online mapping activities related to EnviroAtlas. EnviroAtlas (\u003c/span\u003e\u003ca href='https://www.epa.gov/enviroatlas' style='text-decoration:underline;' rel='nofollow ugc'\u003e\u003cspan\u003ehttps://www.epa.gov/enviroatlas\u003c/span\u003e\u003c/a\u003e\u003cspan\u003e) allows the user to interact with a web-based, easy-to-use, mapping application to view and analyze multiple ecosystem services for the contiguous United States. The dataset is available as downloadable data (\u003c/span\u003e\u003ca href='https://edg.epa.gov/data/Public/ORD/EnviroAtlas' style='text-decoration:underline;' rel='nofollow ugc'\u003e\u003cspan\u003ehttps://edg.epa.gov/data/Public/ORD/EnviroAtlas\u003c/span\u003e\u003c/a\u003e\u003cspan\u003e) or as an EnviroAtlas map service. Additional descriptive information about attributes in this dataset can be found in its associated EnviroAtlas Fact Sheet (\u003c/span\u003e\u003ca href='https://www.epa.gov/enviroatlas/enviroatlas-fact-sheets' style='text-decoration:underline;' rel='nofollow ugc'\u003e\u003cspan\u003ehttps://www.epa.gov/enviroatlas/enviroatlas-fact-sheets\u003c/span\u003e\u003c/a\u003e\u003cspan\u003e).\u003c/span\u003e\u003c/p\u003e\u003c/div\u003e", 
  "mapName" : "Workers_per_Job_Equilibrium_Index_Tiles", 
  "description" : "\u003cdiv style='text-align:left;'\u003e\u003cp\u003e\u003ca href='https://edg.epa.gov/metadata/catalog/search/resource/details.page?uuid=%7B670e195f-b629-48c9-aa94-1ec06cda2bca%7D' style='font-size:12pt; text-decoration:underline;' rel='nofollow ugc'\u003e\u003cspan\u003eAccessibility Metadata\u003c/span\u003e\u003c/a\u003e\u003cspan style='font-size:12pt;'\u003e \u003c/span\u003e\u003cspan style='font-size:16px;'\u003eThis map illustrates an index that measures the balance between workers and jobs within each census block group. An index value close to one indicates a balance between resident workers and jobs.\u003c/span\u003e\u003c/p\u003e\u003cp\u003e\u003cspan style='font-size:12pt;'\u003eThis EnviroAtlas hosted feature layer includes data that illustrate accessibility, demographics, employment, and housing characteristics for the Conterminous United States, Alaska, Hawaii, and Puerto Rico.\u003c/span\u003e\u003c/p\u003e\u003cp style='font-size:12pt;'\u003e\u003cspan\u003e\u003c/span\u003e\u003c/p\u003e\u003cp style='font-size:12pt;'\u003e\u003cspan\u003eThis dataset was produced by the US EPA to support research and online mapping activities related to EnviroAtlas. EnviroAtlas (\u003c/span\u003e\u003ca href='https://www.epa.gov/enviroatlas' style='text-decoration:underline;' rel='nofollow ugc'\u003e\u003cspan\u003ehttps://www.epa.gov/enviroatlas\u003c/span\u003e\u003c/a\u003e\u003cspan\u003e) allows the user to interact with a web-based, easy-to-use, mapping application to view and analyze multiple ecosystem services for the contiguous United States. The dataset is available as downloadable data (\u003c/span\u003e\u003ca href='https://edg.epa.gov/data/Public/ORD/EnviroAtlas' style='text-decoration:underline;' rel='nofollow ugc'\u003e\u003cspan\u003ehttps://edg.epa.gov/data/Public/ORD/EnviroAtlas\u003c/span\u003e\u003c/a\u003e\u003cspan\u003e) or as an EnviroAtlas map service. Additional descriptive information about attributes in this dataset can be found in its associated EnviroAtlas Fact Sheet (\u003c/span\u003e\u003ca href='https://www.epa.gov/enviroatlas/enviroatlas-fact-sheets' style='text-decoration:underline;' rel='nofollow ugc'\u003e\u003cspan\u003ehttps://www.epa.gov/enviroatlas/enviroatlas-fact-sheets\u003c/span\u003e\u003c/a\u003e\u003cspan\u003e).\u003c/span\u003e\u003c/p\u003e\u003c/div\u003e", 
  "abstract" : "\u003cdiv style='text-align:left;'\u003e\u003cp\u003e\u003ca href='https://edg.epa.gov/metadata/catalog/search/resource/details.page?uuid=%7B670e195f-b629-48c9-aa94-1ec06cda2bca%7D' style='font-size:12pt; text-decoration:underline;' rel='nofollow ugc'\u003e\u003cspan\u003eAccessibility Metadata\u003c/span\u003e\u003c/a\u003e\u003cspan style='font-size:12pt;'\u003e \u003c/span\u003e\u003cspan style='font-size:16px;'\u003eThis map illustrates an index that measures the balance between workers and jobs within each census block group. An index value close to one indicates a balance between resident workers and jobs.\u003c/span\u003e\u003c/p\u003e\u003cp\u003e\u003cspan style='font-size:12pt;'\u003eThis EnviroAtlas hosted feature layer includes data that illustrate accessibility, demographics, employment, and housing characteristics for the Conterminous United States, Alaska, Hawaii, and Puerto Rico.\u003c/span\u003e\u003c/p\u003e\u003cp style='font-size:12pt;'\u003e\u003cspan\u003e\u003c/span\u003e\u003c/p\u003e\u003cp style='font-size:12pt;'\u003e\u003cspan\u003eThis dataset was produced by the US EPA to support research and online mapping activities related to EnviroAtlas. EnviroAtlas (\u003c/span\u003e\u003ca href='https://www.epa.gov/enviroatlas' style='text-decoration:underline;' rel='nofollow ugc'\u003e\u003cspan\u003ehttps://www.epa.gov/enviroatlas\u003c/span\u003e\u003c/a\u003e\u003cspan\u003e) allows the user to interact with a web-based, easy-to-use, mapping application to view and analyze multiple ecosystem services for the contiguous United States. The dataset is available as downloadable data (\u003c/span\u003e\u003ca href='https://edg.epa.gov/data/Public/ORD/EnviroAtlas' style='text-decoration:underline;' rel='nofollow ugc'\u003e\u003cspan\u003ehttps://edg.epa.gov/data/Public/ORD/EnviroAtlas\u003c/span\u003e\u003c/a\u003e\u003cspan\u003e) or as an EnviroAtlas map service. Additional descriptive information about attributes in this dataset can be found in its associated EnviroAtlas Fact Sheet (\u003c/span\u003e\u003ca href='https://www.epa.gov/enviroatlas/enviroatlas-fact-sheets' style='text-decoration:underline;' rel='nofollow ugc'\u003e\u003cspan\u003ehttps://www.epa.gov/enviroatlas/enviroatlas-fact-sheets\u003c/span\u003e\u003c/a\u003e\u003cspan\u003e).\u003c/span\u003e\u003c/p\u003e\u003c/div\u003e", 
  "metadataLink" : "", 
  "keywords" : [
    "EnviroAtlas", 
    "Land use", 
    "transportation", 
    "planning", 
    "smart location index", 
    "EPA", 
    "location efficiency"
  ], 
  "copyrightText" : "", 
  "layers" : [
    {
      "id" : 0, 
      "name" : "CBG2010_SLD_YY", 
      "parentLayerId" : -1, 
      "defaultVisibility" : true, 
      "subLayerIds" : null, 
      "minScale" : 489324, 
      "maxScale" : 0, 
      "type" : "Feature Layer", 
      "geometryType" : "esriGeometryPolygon"
    }
  ], 
  "tables" : [], 
  "spatialReference" : {
    "wkid" : 102100, 
    "latestWkid" : 3857
  }, 
  "singleFusedMapCache" : true, 
  "tileInfo" : {"rows":256,"cols":256,"dpi":96,"preciseDpi":96,"format":"PNG32","storageFormat":"esriMapCacheStorageModeExploded","packetSize":128,"compressionQuality":0,"antialiasing":true,"origin":{"x":-20037508.342787,"y":20037508.342787},"spatialReference":{"wkid":102100,"latestWkid":3857},"lods":[{"level":0,"resolution":156543.033928,"scale":591657527.591555},{"level":1,"resolution":78271.5169639999,"scale":295828763.795777},{"level":2,"resolution":39135.7584820001,"scale":147914381.897889},{"level":3,"resolution":19567.8792409999,"scale":73957190.948944},{"level":4,"resolution":9783.93962049996,"scale":36978595.474472},{"level":5,"resolution":4891.96981024998,"scale":18489297.737236},{"level":6,"resolution":2445.98490512499,"scale":9244648.868618},{"level":7,"resolution":1222.99245256249,"scale":4622324.434309},{"level":8,"resolution":611.49622628138,"scale":2311162.217155},{"level":9,"resolution":305.748113140558,"scale":1155581.108577},{"level":10,"resolution":152.874056570411,"scale":577790.554289},{"level":11,"resolution":76.4370282850732,"scale":288895.277144},{"level":12,"resolution":38.2185141425366,"scale":144447.638572},{"level":13,"resolution":19.1092570712683,"scale":72223.819286},{"level":14,"resolution":9.55462853563415,"scale":36111.909643},{"level":15,"resolution":4.77731426794937,"scale":18055.954822},{"level":16,"resolution":2.38865713397468,"scale":9027.977411},{"level":17,"resolution":1.19432856685505,"scale":4513.988705},{"level":18,"resolution":0.597164283559817,"scale":2256.994353},{"level":19,"resolution":0.298582141647617,"scale":1128.497176},{"level":20,"resolution":0.14929107082380833,"scale":564.248588},{"level":21,"resolution":0.074645535411904163,"scale":282.124294},{"level":22,"resolution":0.037322767705952081,"scale":141.062147}]}, 
  "minLOD" : 0, 
  "maxLOD" : 12, 
  "initialExtent" : {
    "xmin" : -21940802.362450004, 
    "ymin" : -14025318.876447974, 
    "xmax" : 22020109.664450005, 
    "ymax" : 23936760.363447972, 
    "spatialReference" : {
      "wkid" : 102100, 
      "latestWkid" : 3857
    }
  }, 
  "fullExtent" : {
    "xmin" : -19942579.0885, 
    "ymin" : -1643352.0188000016, 
    "xmax" : 20021886.3905, 
    "ymax" : 11554793.5058, 
    "spatialReference" : {
      "wkid" : 102100, 
      "latestWkid" : 3857
    }
  }, 
  "units" : "esriMeters", 
  "supportedImageFormatTypes" : "", 
  "created" : null, 
  "modified" : null, 
  "status" : "created", 
  "access" : "SECURE", 
  "minScale" : 591657527.591555, 
  "maxScale" : 80000, 
  "exportTilesAllowed" : false, 
  "maxExportTilesCount" : 100000, 
  "cacheOnDemand" : false, 
  "capabilities" : "Map,ChangeTracking,TilesOnly,Tilemap", 
  "type" : "MapServer", 
  "currentVersion" : 12, 
  "changeTrackingInfo" : 
  {
    "lastSyncDate" : 1636056815002, 
    "layerServerGens" : [
      {
        "id" : 0, 
        "minServerGen" : 46000194, 
        "serverGen" : 46000194
      }
    ]
  }, 
  
  "scheduleInfo" : {
    "name" : "", 
    "startAt" : 1637091436712, 
    "state" : "enabled", 
    
    "recurrenceInfo" : {
      "frequency" : "minute", 
      "interval" : 2
    }
  }
}