Current Version
Service Description: Lakes, ponds, streams, rivers, and other surface waters of the United States from the National Hydrography Database Plus version 2.1.
Abstract: The National Hydrography Dataset Plus (NHDplus) maps the
lakes, ponds, streams, rivers and other surface waters of the United States. Created by the US EPA Office of Water and the
US Geological Survey, the NHDPlus provides mean annual and monthly flow estimates for rivers and streams. Additional attributes provide connections between features facilitating complicated analyses.
Dataset Summary
Phenomenon Mapped: Surface waters and related features of the United States and associated territories not including Alaska.
Coordinate System: Web Mercator Auxiliary Sphere
Extent: The
United States not including Alaska, Puerto Rico, Guam, US Virgin
Islands, Marshall Islands, Northern Marianas Islands, Palau, Federated
States of Micronesia, and American Samoa
Visible Scale: Visible at all scales but layer draws best at scales larger than 1:1,000,000
Resolution/Tolerance: 1 meter/2 meters
Number of Features: 3,035,617 flowlines, 473,936 waterbodies, 16,658 sinks
Feature Request Limit: 5,000
Publication Date: March 13, 2019
Prior to publication, the NHDPlus network and non-network flowline feature classes were combined into a single flowline layer. Similarly, the NHDPlus Area and Waterbody feature classes were merged under a single schema.
Attribute fields were added to the flowline and waterbody layers to simplify symbology and enhance the layer's pop-ups. Fields added include Pop-up Title, Pop-up Subtitle, On or Off Network (flowlines only), Esri Symbology (waterbodies only), and Feature Code Description. All other attributes are from the original NHDPlus dataset. No data values -9999 and -9998 were converted to Null values for many of the flowline fields.
What can you do with this Feature Layer?
Feature
layers work throughout the ArcGIS system. Generally your work flow with
feature layers will begin in ArcGIS Online or ArcGIS Pro. Below are
just a few of the things you can do with a feature service in Online and
Pro.
ArcGIS Online
Add this layer to a map in the map viewer. The layer is limited to scales of approximately 1:1,000,000 or larger but a
vector tile layer created from the same data can be used at smaller scales to produce a webmap that displays across the full range of scales. The layer or a map containing it can be used in an application.
- Apply filters. For example you can set a filter to show larger streams and rivers using the mean annual flow attribute or the stream order attribute.
- Use as an input to the ArcGIS Online analysis tools. This layer works well as a reference layer with the trace downstream and watershed tools. The buffer tool can be used to draw protective boundaries around streams and the extract data tool can be used to create copies of portions of the data.
ArcGIS Pro
- Add this layer to a 2d or 3d map.
This layer is part of the
ArcGIS Living Atlas of the World that
provides an easy way to explore the landscape layers and many other
beautiful and authoritative maps on hundreds of topics.
Metadata URI: https://www.arcgis.com/sharing/rest/content/items/4ddc0ecfb1184e0d9cc17640e9e72b0f/info/metadata/metadata.xml?format=default
Keywords: NHD, NHDPlus, esri_landscape, hosted, esri_environment, landscape, environment, fresh water, Environment
Map Name: National_Hydrography_Dataset_Plus_Version_2.1_WMTS
Capabilities: Map,ChangeTracking,TilesOnly,Tilemap
Description: The National Hydrography Dataset Plus (NHDplus) maps the
lakes, ponds, streams, rivers and other surface waters of the United States. Created by the US EPA Office of Water and the
US Geological Survey, the NHDPlus provides mean annual and monthly flow estimates for rivers and streams. Additional attributes provide connections between features facilitating complicated analyses.
Dataset Summary
Phenomenon Mapped: Surface waters and related features of the United States and associated territories not including Alaska.
Coordinate System: Web Mercator Auxiliary Sphere
Extent: The
United States not including Alaska, Puerto Rico, Guam, US Virgin
Islands, Marshall Islands, Northern Marianas Islands, Palau, Federated
States of Micronesia, and American Samoa
Visible Scale: Visible at all scales but layer draws best at scales larger than 1:1,000,000
Resolution/Tolerance: 1 meter/2 meters
Number of Features: 3,035,617 flowlines, 473,936 waterbodies, 16,658 sinks
Feature Request Limit: 5,000
Publication Date: March 13, 2019
Prior to publication, the NHDPlus network and non-network flowline feature classes were combined into a single flowline layer. Similarly, the NHDPlus Area and Waterbody feature classes were merged under a single schema.
Attribute fields were added to the flowline and waterbody layers to simplify symbology and enhance the layer's pop-ups. Fields added include Pop-up Title, Pop-up Subtitle, On or Off Network (flowlines only), Esri Symbology (waterbodies only), and Feature Code Description. All other attributes are from the original NHDPlus dataset. No data values -9999 and -9998 were converted to Null values for many of the flowline fields.
What can you do with this Feature Layer?
Feature
layers work throughout the ArcGIS system. Generally your work flow with
feature layers will begin in ArcGIS Online or ArcGIS Pro. Below are
just a few of the things you can do with a feature service in Online and
Pro.
ArcGIS Online
Add this layer to a map in the map viewer. The layer is limited to scales of approximately 1:1,000,000 or larger but a
vector tile layer created from the same data can be used at smaller scales to produce a webmap that displays across the full range of scales. The layer or a map containing it can be used in an application.
- Apply filters. For example you can set a filter to show larger streams and rivers using the mean annual flow attribute or the stream order attribute.
- Use as an input to the ArcGIS Online analysis tools. This layer works well as a reference layer with the trace downstream and watershed tools. The buffer tool can be used to draw protective boundaries around streams and the extract data tool can be used to create copies of portions of the data.
ArcGIS Pro
- Add this layer to a 2d or 3d map.
This layer is part of the
ArcGIS Living Atlas of the World that
provides an easy way to explore the landscape layers and many other
beautiful and authoritative maps on hundreds of topics.
Copyright Text: Source: USGS, Esri
Spatial Reference: 102100 (3857)
Legend
All Layers and Tables
Layers:
Single Fused Map Cache: true
Export Tiles Allowed: False
Max Tiles Export Count: 100000
Cache on Demand: True
Tile Info:
- Height: 256
- Width: 256
- DPI: 96
- Levels of Detail: (# Levels: 23)
- Level ID: 0 [Start Tile,End Tile]
- Resolution: 156543.033928
- Scale: 591657527.591555
- Level ID: 1 [Start Tile,End Tile]
- Resolution: 78271.5169639999
- Scale: 295828763.795777
- Level ID: 2 [Start Tile,End Tile]
- Resolution: 39135.7584820001
- Scale: 147914381.897889
- Level ID: 3 [Start Tile,End Tile]
- Resolution: 19567.8792409999
- Scale: 73957190.948944
- Level ID: 4 [Start Tile,End Tile]
- Resolution: 9783.93962049996
- Scale: 36978595.474472
- Level ID: 5 [Start Tile,End Tile]
- Resolution: 4891.96981024998
- Scale: 18489297.737236
- Level ID: 6 [Start Tile,End Tile]
- Resolution: 2445.98490512499
- Scale: 9244648.868618
- Level ID: 7 [Start Tile,End Tile]
- Resolution: 1222.99245256249
- Scale: 4622324.434309
- Level ID: 8 [Start Tile,End Tile]
- Resolution: 611.49622628138
- Scale: 2311162.217155
- Level ID: 9 [Start Tile,End Tile]
- Resolution: 305.748113140558
- Scale: 1155581.108577
- Level ID: 10 [Start Tile,End Tile]
- Resolution: 152.874056570411
- Scale: 577790.554289
- Level ID: 11 [Start Tile,End Tile]
- Resolution: 76.4370282850732
- Scale: 288895.277144
- Level ID: 12 [Start Tile,End Tile]
- Resolution: 38.2185141425366
- Scale: 144447.638572
- Level ID: 13 [Start Tile,End Tile]
- Resolution: 19.1092570712683
- Scale: 72223.819286
- Level ID: 14 [Start Tile,End Tile]
- Resolution: 9.55462853563415
- Scale: 36111.909643
- Level ID: 15 [Start Tile,End Tile]
- Resolution: 4.77731426794937
- Scale: 18055.954822
- Level ID: 16 [Start Tile,End Tile]
- Resolution: 2.38865713397468
- Scale: 9027.977411
- Level ID: 17 [Start Tile,End Tile]
- Resolution: 1.19432856685505
- Scale: 4513.988705
- Level ID: 18 [Start Tile,End Tile]
- Resolution: 0.597164283559817
- Scale: 2256.994353
- Level ID: 19 [Start Tile,End Tile]
- Resolution: 0.298582141647617
- Scale: 1128.497176
- Level ID: 20 [Start Tile,End Tile]
- Resolution: 0.149291070823808
- Scale: 564.248588
- Level ID: 21 [Start Tile,End Tile]
- Resolution: 0.0746455354119042
- Scale: 282.124294
- Level ID: 22 [Start Tile,End Tile]
- Resolution: 0.0373227677059521
- Scale: 141.062147
- Format: PNG32
- Compression Quality: 0
- Origin:
- X: -20037508.342787
- Y: 20037508.342787
Spatial Reference: 102100 (3857)
Initial Extent:
XMin: -12946189.6813528
YMin: 3906067.78351148
XMax: -12850148.7196745
YMax: 3985990.48054254
Full Extent:
XMin: -19018937.4530311
YMin: -1618234.84633876
XMax: 16238730.2734359
YMax: 6420997.45521637
Min. Scale: 144448
Max. Scale: 9027
Min LOD: 12
Max LOD: 16
Units: esriMeters
Supported Image Format Types:
Supported Operations:
Export Tiles