Current Version
Service Description:
Abstract:
This layer summarizes payments made to producers by the Federal government from the 2017 Census of Agriculture at the county level.
This layer was produced from data downloaded using the USDA's
QuickStats Application. The data was transformed using the Pivot Table tool in ArcGIS Pro and joined to the
county boundary file provided by the USDA. The layer was published as feature layer in ArcGIS Online.
Dataset Summary
Phenomenon Mapped: Payments made to producers by the Federal government
Coordinate System: Web Mercator Auxiliary Sphere
Extent: United States including Hawaii and Alaska
Visible Scale: All Scales
Publication Date: 2017
Attributes
This
layer provides values for the following attributes. Note that some
values are not disclosed (coded as -1 in the layer) to protect the
privacy of producers in areas with limited production.
Federal Payments - Operations with Receipts
Federal Payments - Receipts in US Dollars
Federal Payments - Receipts in US Dollars per Operation
Federal Payments not Including Conservation and Wetland Programs - Operations with Receipts
Federal Payments not Including Conservation and Wetland Programs - Receipts in US Dollars
Federal Payments not Including Conservation and Wetland Programs - Receipts in US Dollars per Operation
Federal Payments for Conservation and Wetland Programs - Operations with Receipts
Federal Payments for Conservation and Wetland Programs - Receipts in US Dollars
Federal Payments for Conservation and Wetland Programs - Receipts in US Dollars per Operation
Conservation and wetland programs include:
Other programs with payments to producers include:
State and local government agricultural program payments and Federal crop insurance payments are not included.
Additionally,
attributes of State Name, State Code, County Name and County Code are
included to facilitate cartography and use with other layers.
What can you do with this layer?
This
layer can be used throughout the ArcGIS system. Feature layers can be
used just like any other vector layer. You can use feature layers as an
input to geoprocessing tools in ArcGIS Pro or in Analysis in ArcGIS
Online. Combine the layer with others in a map and set custom symbology
or create a pop-up tailored for your users.
This layer is part of
ArcGIS Living Atlas of the World
that provides an easy way to find and explore many other beautiful and
authoritative layers, maps, and applications on hundreds of topics.
Metadata URI: https://www.arcgis.com/sharing/rest/content/items/7d7b86a5a37a4b1bb5b3b42928fd770e/info/metadata/metadata.xml?format=default
Keywords: agriculture, Ag Census, 2017, USDA, environment, esri_environment, Federal, program, payment, Farming, Environment
Map Name: USDA_Census_of_Agriculture_2017_Federal_Payments_WMTS
Capabilities: Map,ChangeTracking,TilesOnly,Tilemap
Description:
This layer summarizes payments made to producers by the Federal government from the 2017 Census of Agriculture at the county level.
This layer was produced from data downloaded using the USDA's
QuickStats Application. The data was transformed using the Pivot Table tool in ArcGIS Pro and joined to the
county boundary file provided by the USDA. The layer was published as feature layer in ArcGIS Online.
Dataset Summary
Phenomenon Mapped: Payments made to producers by the Federal government
Coordinate System: Web Mercator Auxiliary Sphere
Extent: United States including Hawaii and Alaska
Visible Scale: All Scales
Publication Date: 2017
Attributes
This
layer provides values for the following attributes. Note that some
values are not disclosed (coded as -1 in the layer) to protect the
privacy of producers in areas with limited production.
Federal Payments - Operations with Receipts
Federal Payments - Receipts in US Dollars
Federal Payments - Receipts in US Dollars per Operation
Federal Payments not Including Conservation and Wetland Programs - Operations with Receipts
Federal Payments not Including Conservation and Wetland Programs - Receipts in US Dollars
Federal Payments not Including Conservation and Wetland Programs - Receipts in US Dollars per Operation
Federal Payments for Conservation and Wetland Programs - Operations with Receipts
Federal Payments for Conservation and Wetland Programs - Receipts in US Dollars
Federal Payments for Conservation and Wetland Programs - Receipts in US Dollars per Operation
Conservation and wetland programs include:
Other programs with payments to producers include:
State and local government agricultural program payments and Federal crop insurance payments are not included.
Additionally,
attributes of State Name, State Code, County Name and County Code are
included to facilitate cartography and use with other layers.
What can you do with this layer?
This
layer can be used throughout the ArcGIS system. Feature layers can be
used just like any other vector layer. You can use feature layers as an
input to geoprocessing tools in ArcGIS Pro or in Analysis in ArcGIS
Online. Combine the layer with others in a map and set custom symbology
or create a pop-up tailored for your users.
This layer is part of
ArcGIS Living Atlas of the World
that provides an easy way to find and explore many other beautiful and
authoritative layers, maps, and applications on hundreds of topics.
Copyright Text:
Spatial Reference: 102100 (3857)
Legend
All Layers and Tables
Layers:
Single Fused Map Cache: true
Export Tiles Allowed: False
Max Tiles Export Count: 100000
Cache on Demand: True
Tile Info:
- Height: 256
- Width: 256
- DPI: 96
- Levels of Detail: (# Levels: 23)
- Level ID: 0 [Start Tile,End Tile]
- Resolution: 156543.033928
- Scale: 591657527.591555
- Level ID: 1 [Start Tile,End Tile]
- Resolution: 78271.5169639999
- Scale: 295828763.795777
- Level ID: 2 [Start Tile,End Tile]
- Resolution: 39135.7584820001
- Scale: 147914381.897889
- Level ID: 3 [Start Tile,End Tile]
- Resolution: 19567.8792409999
- Scale: 73957190.948944
- Level ID: 4 [Start Tile,End Tile]
- Resolution: 9783.93962049996
- Scale: 36978595.474472
- Level ID: 5 [Start Tile,End Tile]
- Resolution: 4891.96981024998
- Scale: 18489297.737236
- Level ID: 6 [Start Tile,End Tile]
- Resolution: 2445.98490512499
- Scale: 9244648.868618
- Level ID: 7 [Start Tile,End Tile]
- Resolution: 1222.99245256249
- Scale: 4622324.434309
- Level ID: 8 [Start Tile,End Tile]
- Resolution: 611.49622628138
- Scale: 2311162.217155
- Level ID: 9 [Start Tile,End Tile]
- Resolution: 305.748113140558
- Scale: 1155581.108577
- Level ID: 10 [Start Tile,End Tile]
- Resolution: 152.874056570411
- Scale: 577790.554289
- Level ID: 11 [Start Tile,End Tile]
- Resolution: 76.4370282850732
- Scale: 288895.277144
- Level ID: 12 [Start Tile,End Tile]
- Resolution: 38.2185141425366
- Scale: 144447.638572
- Level ID: 13 [Start Tile,End Tile]
- Resolution: 19.1092570712683
- Scale: 72223.819286
- Level ID: 14 [Start Tile,End Tile]
- Resolution: 9.55462853563415
- Scale: 36111.909643
- Level ID: 15 [Start Tile,End Tile]
- Resolution: 4.77731426794937
- Scale: 18055.954822
- Level ID: 16 [Start Tile,End Tile]
- Resolution: 2.38865713397468
- Scale: 9027.977411
- Level ID: 17 [Start Tile,End Tile]
- Resolution: 1.19432856685505
- Scale: 4513.988705
- Level ID: 18 [Start Tile,End Tile]
- Resolution: 0.597164283559817
- Scale: 2256.994353
- Level ID: 19 [Start Tile,End Tile]
- Resolution: 0.298582141647617
- Scale: 1128.497176
- Level ID: 20 [Start Tile,End Tile]
- Resolution: 0.149291070823808
- Scale: 564.248588
- Level ID: 21 [Start Tile,End Tile]
- Resolution: 0.0746455354119042
- Scale: 282.124294
- Level ID: 22 [Start Tile,End Tile]
- Resolution: 0.0373227677059521
- Scale: 141.062147
- Format: PNG32
- Compression Quality: 0
- Origin:
- X: -20037508.342787
- Y: 20037508.342787
Spatial Reference: 102100 (3857)
Initial Extent:
XMin: -19942590.6658
YMin: 2028991.1641
XMax: -7260432.0204
YMax: 11523911.9443
Full Extent:
XMin: -19942590.6658
YMin: 2028991.1641
XMax: -7260432.0204
YMax: 11523911.9443
Min. Scale: 9244649
Max. Scale: 577790
Min LOD: 6
Max LOD: 10
Units: esriMeters
Supported Image Format Types:
Supported Operations:
Export Tiles