Current Version
Service Description: Oil and Gas Wells. Data provided by by the California Department of Conservation, Geologic Energy Management Division (CalGEM) and prepared by Los Angeles County Department of Public Health (DPH) for the Community Health Profiles (CHP) Data Initiative.
Abstract: This indicator provides information about the geographic locations of oil and gas wells. All records include operator name, field name, latitude, and longitude coordinates, well type, and well status.
Oil and gas wells are located throughout Los Angeles County, including in residential areas. Living or working near oil and gas wells can lead to negative health effects. Additionally, oil and gas well activity can generate significant noise and vibrations in a community. Although Los Angeles County has approved a ban on all new oil and gas wells, with plans to phase out drilling over the next 20 years, potential hazards may remain. Regulation of existing oil and gas wells (both active and inactive) is critical to protecting public safety and the environment.
For more information about the Community Health Profiles Data Initiative, please see the
initiative homepage.
Metadata URI: https://www.arcgis.com/sharing/rest/content/items/5667bdcb5887438cb031217ee341bdb1/info/metadata/metadata.xml?format=default
Keywords: dph, public health, community health profiles, chp, indicator, Oil and Gas Wells, Environmental Justice, EJ
Map Name: Oil_and_Gas_Wells
Capabilities: Map,ChangeTracking,TilesOnly,Tilemap
Description: This indicator provides information about the geographic locations of oil and gas wells. All records include operator name, field name, latitude, and longitude coordinates, well type, and well status.
Oil and gas wells are located throughout Los Angeles County, including in residential areas. Living or working near oil and gas wells can lead to negative health effects. Additionally, oil and gas well activity can generate significant noise and vibrations in a community. Although Los Angeles County has approved a ban on all new oil and gas wells, with plans to phase out drilling over the next 20 years, potential hazards may remain. Regulation of existing oil and gas wells (both active and inactive) is critical to protecting public safety and the environment.
For more information about the Community Health Profiles Data Initiative, please see the
initiative homepage.
Copyright Text: Indicator generated by the Los Angeles County Department of Public Health. Data for calculating this indicator came from the following sources: Oil & Gas Wells (excluding offshore) provided by the California Department of Conservation, Geologic Energy Management Division (CalGEM), created 08/05/2020 and updated nightly following workdays, last accessed 06/06/2023.
Spatial Reference: 102100 (3857)
Legend
All Layers and Tables
Layers:
Single Fused Map Cache: true
Export Tiles Allowed: False
Max Tiles Export Count: 100000
Cache on Demand: True
Tile Info:
- Height: 256
- Width: 256
- DPI: 96
- Levels of Detail: (# Levels: 23)
- Level ID: 0 [Start Tile,End Tile]
- Resolution: 156543.033928
- Scale: 591657527.591555
- Level ID: 1 [Start Tile,End Tile]
- Resolution: 78271.5169639999
- Scale: 295828763.795777
- Level ID: 2 [Start Tile,End Tile]
- Resolution: 39135.7584820001
- Scale: 147914381.897889
- Level ID: 3 [Start Tile,End Tile]
- Resolution: 19567.8792409999
- Scale: 73957190.948944
- Level ID: 4 [Start Tile,End Tile]
- Resolution: 9783.93962049996
- Scale: 36978595.474472
- Level ID: 5 [Start Tile,End Tile]
- Resolution: 4891.96981024998
- Scale: 18489297.737236
- Level ID: 6 [Start Tile,End Tile]
- Resolution: 2445.98490512499
- Scale: 9244648.868618
- Level ID: 7 [Start Tile,End Tile]
- Resolution: 1222.99245256249
- Scale: 4622324.434309
- Level ID: 8 [Start Tile,End Tile]
- Resolution: 611.49622628138
- Scale: 2311162.217155
- Level ID: 9 [Start Tile,End Tile]
- Resolution: 305.748113140558
- Scale: 1155581.108577
- Level ID: 10 [Start Tile,End Tile]
- Resolution: 152.874056570411
- Scale: 577790.554289
- Level ID: 11 [Start Tile,End Tile]
- Resolution: 76.4370282850732
- Scale: 288895.277144
- Level ID: 12 [Start Tile,End Tile]
- Resolution: 38.2185141425366
- Scale: 144447.638572
- Level ID: 13 [Start Tile,End Tile]
- Resolution: 19.1092570712683
- Scale: 72223.819286
- Level ID: 14 [Start Tile,End Tile]
- Resolution: 9.55462853563415
- Scale: 36111.909643
- Level ID: 15 [Start Tile,End Tile]
- Resolution: 4.77731426794937
- Scale: 18055.954822
- Level ID: 16 [Start Tile,End Tile]
- Resolution: 2.38865713397468
- Scale: 9027.977411
- Level ID: 17 [Start Tile,End Tile]
- Resolution: 1.19432856685505
- Scale: 4513.988705
- Level ID: 18 [Start Tile,End Tile]
- Resolution: 0.597164283559817
- Scale: 2256.994353
- Level ID: 19 [Start Tile,End Tile]
- Resolution: 0.298582141647617
- Scale: 1128.497176
- Level ID: 20 [Start Tile,End Tile]
- Resolution: 0.149291070823808
- Scale: 564.248588
- Level ID: 21 [Start Tile,End Tile]
- Resolution: 0.0746455354119042
- Scale: 282.124294
- Level ID: 22 [Start Tile,End Tile]
- Resolution: 0.0373227677059521
- Scale: 141.062147
- Format: PNG32
- Compression Quality: 0
- Origin:
- X: -20037508.342787
- Y: 20037508.342787
Spatial Reference: 102100 (3857)
Initial Extent:
XMin: -13238282.3184771
YMin: 3988892.44453383
XMax: -13102313.5333009
YMax: 4139378.66767062
Full Extent:
XMin: -13238282.3184771
YMin: 3988892.44453383
XMax: -13102313.5333009
YMax: 4139378.66767062
Min. Scale: 6918169
Max. Scale: 356
Min LOD: 7
Max LOD: 20
Units: esriMeters
Supported Image Format Types:
Supported Operations:
Export Tiles