Current Version
Service Description:
Abstract: Overview
This Feature Service provides geographic boundary data for various inspection divisions within San Francisco, focusing on divisions for building, electrical, and plumbing inspections. It supports municipal management and regulatory compliance by delineating district boundaries that correspond to specialized inspection responsibilities.
Feature Layers
- Building Inspection Division Districts: Contains polygonal boundaries representing districts assigned to building inspections. This layer includes descriptive information and data load timestamps that help track updates. It assists in administration and monitoring of building conditions and compliance within each district.
- Electrical Inspection Division Districts: Depicts the spatial layout of districts for electrical inspections. This layer helps regulatory agencies and utility companies understand the geographic scope of electrical safety and inspection jurisdictions.
- Plumbing Inspection Division Districts: Represents districts for plumbing inspections, including descriptive details and data currency. It supports water and sewage system compliance and safety oversight across the city.
Geographic Coverage
The service covers the city of San Francisco, California, capturing essential inspection divisions within the urban area. This localized coverage enables targeted municipal operations related to building, electrical, and plumbing inspections.
Use Cases
- City planning and regulatory enforcement agencies using the district boundaries to assign inspection responsibilities.
- Public works and safety departments monitoring compliance and maintenance within designated inspection districts.
- Developers, contractors, and property managers needing spatial information on inspection jurisdictions for regulatory submissions and compliance.
Metadata URI: N/A
Keywords: San Francisco, building inspection, electrical inspection, plumbing districts, municipal boundaries
Map Name: opengov_feature_service_tile_layer
Capabilities: Map,ChangeTracking,TilesOnly,Tilemap
Description: Overview
This Feature Service provides geographic boundary data for various inspection divisions within San Francisco, focusing on divisions for building, electrical, and plumbing inspections. It supports municipal management and regulatory compliance by delineating district boundaries that correspond to specialized inspection responsibilities.
Feature Layers
- Building Inspection Division Districts: Contains polygonal boundaries representing districts assigned to building inspections. This layer includes descriptive information and data load timestamps that help track updates. It assists in administration and monitoring of building conditions and compliance within each district.
- Electrical Inspection Division Districts: Depicts the spatial layout of districts for electrical inspections. This layer helps regulatory agencies and utility companies understand the geographic scope of electrical safety and inspection jurisdictions.
- Plumbing Inspection Division Districts: Represents districts for plumbing inspections, including descriptive details and data currency. It supports water and sewage system compliance and safety oversight across the city.
Geographic Coverage
The service covers the city of San Francisco, California, capturing essential inspection divisions within the urban area. This localized coverage enables targeted municipal operations related to building, electrical, and plumbing inspections.
Use Cases
- City planning and regulatory enforcement agencies using the district boundaries to assign inspection responsibilities.
- Public works and safety departments monitoring compliance and maintenance within designated inspection districts.
- Developers, contractors, and property managers needing spatial information on inspection jurisdictions for regulatory submissions and compliance.
Copyright Text:
Spatial Reference: 102100 (3857)
Legend
All Layers and Tables
Layers:
Single Fused Map Cache: true
Export Tiles Allowed: False
Max Tiles Export Count: 100000
Cache on Demand: True
Tile Info:
- Height: 256
- Width: 256
- DPI: 96
- Levels of Detail: (# Levels: 23)
- Level ID: 0 [Start Tile,End Tile]
- Resolution: 156543.033928
- Scale: 591657527.591555
- Level ID: 1 [Start Tile,End Tile]
- Resolution: 78271.5169639999
- Scale: 295828763.795777
- Level ID: 2 [Start Tile,End Tile]
- Resolution: 39135.7584820001
- Scale: 147914381.897889
- Level ID: 3 [Start Tile,End Tile]
- Resolution: 19567.8792409999
- Scale: 73957190.948944
- Level ID: 4 [Start Tile,End Tile]
- Resolution: 9783.93962049996
- Scale: 36978595.474472
- Level ID: 5 [Start Tile,End Tile]
- Resolution: 4891.96981024998
- Scale: 18489297.737236
- Level ID: 6 [Start Tile,End Tile]
- Resolution: 2445.98490512499
- Scale: 9244648.868618
- Level ID: 7 [Start Tile,End Tile]
- Resolution: 1222.99245256249
- Scale: 4622324.434309
- Level ID: 8 [Start Tile,End Tile]
- Resolution: 611.49622628138
- Scale: 2311162.217155
- Level ID: 9 [Start Tile,End Tile]
- Resolution: 305.748113140558
- Scale: 1155581.108577
- Level ID: 10 [Start Tile,End Tile]
- Resolution: 152.874056570411
- Scale: 577790.554289
- Level ID: 11 [Start Tile,End Tile]
- Resolution: 76.4370282850732
- Scale: 288895.277144
- Level ID: 12 [Start Tile,End Tile]
- Resolution: 38.2185141425366
- Scale: 144447.638572
- Level ID: 13 [Start Tile,End Tile]
- Resolution: 19.1092570712683
- Scale: 72223.819286
- Level ID: 14 [Start Tile,End Tile]
- Resolution: 9.55462853563415
- Scale: 36111.909643
- Level ID: 15 [Start Tile,End Tile]
- Resolution: 4.77731426794937
- Scale: 18055.954822
- Level ID: 16 [Start Tile,End Tile]
- Resolution: 2.38865713397468
- Scale: 9027.977411
- Level ID: 17 [Start Tile,End Tile]
- Resolution: 1.19432856685505
- Scale: 4513.988705
- Level ID: 18 [Start Tile,End Tile]
- Resolution: 0.597164283559817
- Scale: 2256.994353
- Level ID: 19 [Start Tile,End Tile]
- Resolution: 0.298582141647617
- Scale: 1128.497176
- Level ID: 20 [Start Tile,End Tile]
- Resolution: 0.149291070823808
- Scale: 564.248588
- Level ID: 21 [Start Tile,End Tile]
- Resolution: 0.0746455354119042
- Scale: 282.124294
- Level ID: 22 [Start Tile,End Tile]
- Resolution: 0.0373227677059521
- Scale: 141.062147
- Format: PNG32
- Compression Quality: 0
- Origin:
- X: -20037508.342787
- Y: 20037508.342787
Spatial Reference: 102100 (3857)
Initial Extent:
XMin: -13638301.4014917
YMin: 4538190.66471384
XMax: -13620717.4877848
YMax: 4555903.06510909
Full Extent:
XMin: -13638301.4014917
YMin: 4538190.66471384
XMax: -13620717.4877848
YMax: 4555903.06510909
Min. Scale: 147914382
Max. Scale: 141.062147
Min LOD: 2
Max LOD: 22
Units: esriMeters
Supported Image Format Types:
Supported Operations:
Export Tiles