Current Version
Service Description:
Abstract: Full Metadata This map estimates non-cancer respiratory risk (hazard quotient) due to acrolein air toxics from the National Air Toxics Assessment. A hazard quotient is defined as the ratio of the potential exposure to the substance and the level at which no adverse effects are expected. A hazard quotient less than or equal to one indicates that adverse noncancer effects are not likely to occur, and thus can be considered to have negligible hazard.
This hosted feature layer includes a selection of the National Air Toxics Assessment (NATA) 2014 estimates of ambient concentrations and health-effect results by 2010 census tracts, counties, and states. Although this service uses 2014 NATA data, the underlying Census tracts are 2010 augmented with 2011 Census tracts for VI plus Bedford City, VA into Bedford County VA. This dataset is based on data from 2014 NATA, which was produced by the US EPA to estimate health risks from toxic air pollutants. It was modified for incorporation into the EnviroAtlas Compare My Area tool. The NATA results are available as downloadable data from https://www.epa.gov/national-air-toxics-assessment/2014-nata-assessment-results.
Metadata URI: N/A
Keywords: EnviroAtlas, NATA, contaminant, exposure, danger, health, human, pollutant, pollution, risk, safety, well-being, vehicle, exhaust, emission, combustion, Census
Map Name: Acrolein_air_toxics_Respiratory_risk_hazard_quotient_Tiles
Capabilities: Map,ChangeTracking,TilesOnly,Tilemap
Description: Full Metadata This map estimates non-cancer respiratory risk (hazard quotient) due to acrolein air toxics from the National Air Toxics Assessment. A hazard quotient is defined as the ratio of the potential exposure to the substance and the level at which no adverse effects are expected. A hazard quotient less than or equal to one indicates that adverse noncancer effects are not likely to occur, and thus can be considered to have negligible hazard.
This hosted feature layer includes a selection of the National Air Toxics Assessment (NATA) 2014 estimates of ambient concentrations and health-effect results by 2010 census tracts, counties, and states. Although this service uses 2014 NATA data, the underlying Census tracts are 2010 augmented with 2011 Census tracts for VI plus Bedford City, VA into Bedford County VA. This dataset is based on data from 2014 NATA, which was produced by the US EPA to estimate health risks from toxic air pollutants. It was modified for incorporation into the EnviroAtlas Compare My Area tool. The NATA results are available as downloadable data from https://www.epa.gov/national-air-toxics-assessment/2014-nata-assessment-results.
Copyright Text:
Spatial Reference: 102100 (3857)
Legend
All Layers and Tables
Layers:
Single Fused Map Cache: true
Export Tiles Allowed: False
Max Tiles Export Count: 100000
Cache on Demand: True
Tile Info:
- Height: 256
- Width: 256
- DPI: 96
- Levels of Detail: (# Levels: 23)
- Level ID: 0 [Start Tile,End Tile]
- Resolution: 156543.033928
- Scale: 591657527.591555
- Level ID: 1 [Start Tile,End Tile]
- Resolution: 78271.5169639999
- Scale: 295828763.795777
- Level ID: 2 [Start Tile,End Tile]
- Resolution: 39135.7584820001
- Scale: 147914381.897889
- Level ID: 3 [Start Tile,End Tile]
- Resolution: 19567.8792409999
- Scale: 73957190.948944
- Level ID: 4 [Start Tile,End Tile]
- Resolution: 9783.93962049996
- Scale: 36978595.474472
- Level ID: 5 [Start Tile,End Tile]
- Resolution: 4891.96981024998
- Scale: 18489297.737236
- Level ID: 6 [Start Tile,End Tile]
- Resolution: 2445.98490512499
- Scale: 9244648.868618
- Level ID: 7 [Start Tile,End Tile]
- Resolution: 1222.99245256249
- Scale: 4622324.434309
- Level ID: 8 [Start Tile,End Tile]
- Resolution: 611.49622628138
- Scale: 2311162.217155
- Level ID: 9 [Start Tile,End Tile]
- Resolution: 305.748113140558
- Scale: 1155581.108577
- Level ID: 10 [Start Tile,End Tile]
- Resolution: 152.874056570411
- Scale: 577790.554289
- Level ID: 11 [Start Tile,End Tile]
- Resolution: 76.4370282850732
- Scale: 288895.277144
- Level ID: 12 [Start Tile,End Tile]
- Resolution: 38.2185141425366
- Scale: 144447.638572
- Level ID: 13 [Start Tile,End Tile]
- Resolution: 19.1092570712683
- Scale: 72223.819286
- Level ID: 14 [Start Tile,End Tile]
- Resolution: 9.55462853563415
- Scale: 36111.909643
- Level ID: 15 [Start Tile,End Tile]
- Resolution: 4.77731426794937
- Scale: 18055.954822
- Level ID: 16 [Start Tile,End Tile]
- Resolution: 2.38865713397468
- Scale: 9027.977411
- Level ID: 17 [Start Tile,End Tile]
- Resolution: 1.19432856685505
- Scale: 4513.988705
- Level ID: 18 [Start Tile,End Tile]
- Resolution: 0.597164283559817
- Scale: 2256.994353
- Level ID: 19 [Start Tile,End Tile]
- Resolution: 0.298582141647617
- Scale: 1128.497176
- Level ID: 20 [Start Tile,End Tile]
- Resolution: 0.149291070823808
- Scale: 564.248588
- Level ID: 21 [Start Tile,End Tile]
- Resolution: 0.0746455354119042
- Scale: 282.124294
- Level ID: 22 [Start Tile,End Tile]
- Resolution: 0.0373227677059521
- Scale: 141.062147
- Format: PNG32
- Compression Quality: 0
- Origin:
- X: -20037508.342787
- Y: 20037508.342787
Spatial Reference: 102100 (3857)
Initial Extent:
XMin: -21966290.0475185
YMin: -12224857.3180052
XMax: 22036260.2998638
YMax: 25773178.3465573
Full Extent:
XMin: -19951916.4839479
YMin: 1993523.18608602
XMax: 20021886.7362932
YMax: 11554797.8424661
Min. Scale: 591657527.591555
Max. Scale: 1500000
Min LOD: 0
Max LOD: 8
Units: esriMeters
Supported Image Format Types:
Supported Operations:
Export Tiles