Current Version
Service Description: 2010 derived MTR polygon dataset with stream polyline dataset showing correlation to 2005 MTR data provided by Skytruth.org. Stream feature used to provide indication of potential environmental hazards.
Abstract: N/A
Metadata URI: N/A
Keywords:
Map Name: Group_3_MTR
Capabilities: Map,TilesOnly,Tilemap
Description: This is a Mountaintop Removal (MTR) dataset for Eastern Kentucky, in the Appalachian mountain range. It reflects the total acreage of MTR affected areas reflected in tracts that are greater than 40 acres. The sum acreage of this 2010 data is 61,851.34 acres. This information was directly correlated to data tracts greater than 40 acres in a similar 2005 dataset identifying a total of 64,552.29 acres affected by MTR. This yields a reduction of 4% or approximately 2,701 acres.
The polygon portion of this dataset depicting is derived from a series of Landsat rasters covering R019 P034 and R019 P033. The MTR coverage calculation is a result of unsupervised reclassification of 2010 Landsat raster image, then reclassification for areas displaying MTR effects. The result was converted to a polygon feature class and systematically erased major rivers within 400m, highways within 400m, roads and minor rivers within 50m each. Then the resulting areas were selected by attribute of being larger than 40 acres. Accuracy of the dataset was checked by adding 30 random points for ex situ sampling. 28 of 30 were classified appropriately yielding an overall 93% accuracy rating.
It is likely that the reduction in coverage indicates reclamation efforts or potential expansion of mining in other areas of the region. The MTR data is joined by a stream polyline feature which was also generated by DEM information for the same area. Despite the overall decline in MTR areas evidenced by the data there is still significant downstream danger as the largest concentrations of MTR activity is centered around several of the larger stream systems in the South Eastern portion of the study area. The majority of the stream systems flow from South East to North West based on local elevations. There is also a significant area of MTR data in the North West portion of the area that has many stream features terminating in close vicinity to possible MTR sites. With these areas being at lower overall elevation, should a MTR or slurry accident occur it is likely these waters would be damaged further as they don't have the elevation to aid in clearing flow and are closer to population centers. Overall despite a potential decline in MTR activity in this area there is still high likelihood of hydrological damage.
Copyright Text: Skytruth.org provided landsat and DEM. Calculations conducted by Brandon Deusenberry, Lindsay Golden, Gil Castillo, Gary Crowe.
Spatial Reference: 102100 (3857)
Legend
All Layers and Tables
Layers:
Single Fused Map Cache: true
Export Tiles Allowed: False
Max Tiles Export Count: 100000
Cache on Demand: False
Tile Info:
- Height: 256
- Width: 256
- DPI: 96
- Levels of Detail: (# Levels: 20)
- Level ID: 0 [Start Tile,End Tile]
- Resolution: 156543.033928
- Scale: 591657527.591555
- Level ID: 1 [Start Tile,End Tile]
- Resolution: 78271.5169639999
- Scale: 295828763.795777
- Level ID: 2 [Start Tile,End Tile]
- Resolution: 39135.7584820001
- Scale: 147914381.897889
- Level ID: 3 [Start Tile,End Tile]
- Resolution: 19567.8792409999
- Scale: 73957190.948944
- Level ID: 4 [Start Tile,End Tile]
- Resolution: 9783.93962049996
- Scale: 36978595.474472
- Level ID: 5 [Start Tile,End Tile]
- Resolution: 4891.96981024998
- Scale: 18489297.737236
- Level ID: 6 [Start Tile,End Tile]
- Resolution: 2445.98490512499
- Scale: 9244648.868618
- Level ID: 7 [Start Tile,End Tile]
- Resolution: 1222.99245256249
- Scale: 4622324.434309
- Level ID: 8 [Start Tile,End Tile]
- Resolution: 611.49622628138
- Scale: 2311162.217155
- Level ID: 9 [Start Tile,End Tile]
- Resolution: 305.748113140558
- Scale: 1155581.108577
- Level ID: 10 [Start Tile,End Tile]
- Resolution: 152.874056570411
- Scale: 577790.554289
- Level ID: 11 [Start Tile,End Tile]
- Resolution: 76.4370282850732
- Scale: 288895.277144
- Level ID: 12 [Start Tile,End Tile]
- Resolution: 38.2185141425366
- Scale: 144447.638572
- Level ID: 13 [Start Tile,End Tile]
- Resolution: 19.1092570712683
- Scale: 72223.819286
- Level ID: 14 [Start Tile,End Tile]
- Resolution: 9.55462853563415
- Scale: 36111.909643
- Level ID: 15 [Start Tile,End Tile]
- Resolution: 4.77731426794937
- Scale: 18055.954822
- Level ID: 16 [Start Tile,End Tile]
- Resolution: 2.38865713397468
- Scale: 9027.977411
- Level ID: 17 [Start Tile,End Tile]
- Resolution: 1.19432856685505
- Scale: 4513.988705
- Level ID: 18 [Start Tile,End Tile]
- Resolution: 0.597164283559817
- Scale: 2256.994353
- Level ID: 19 [Start Tile,End Tile]
- Resolution: 0.298582141647617
- Scale: 1128.497176
- Format: PNG
- Compression Quality: 0
- Origin:
- X: -20037508.342787
- Y: 20037508.342787
Spatial Reference: 102100 (3857)
Initial Extent:
XMin: -9383064.67737511
YMin: 4509066.91091017
XMax: -9238198.46401976
YMax: 4646935.43371379
Full Extent:
XMin: -9383064.67737511
YMin: 4436361.74600999
XMax: -9238198.46401976
YMax: 4646935.43371379
Min. Scale: 591657527.591555
Max. Scale: 577790.554289
Min LOD: 0
Max LOD: 10
Units: esriMeters
Supported Image Format Types:
Supported Operations:
Export Tiles