Current Version
Service Description: Información sobre los usos del suelo de la isla de La Palma según el PIOLP
Abstract: N/A
Metadata URI: N/A
Keywords:
Map Name: PIOLP_Usos_del_Suelo
Capabilities: Map,ChangeTracking,TilesOnly,Tilemap
Description: Se detecta el predominio del uso residencial, principalmente en las áreas urbanas centrales, pero también se constatan amplias extensiones de suelo con la clasificación de asentamiento rural o agrícola en suelo rústico. El suelo especializado de uso industrial existente es escaso y localizado junto al puerto de Santa Cruz de La Palma, Breña Baja y Villa de Mazo en el Este, y El Paso y Los Llanos de Aridane al Oeste. Las previsiones de suelo urbanizable industrial tienden a reforzar las localizaciones de estas áreas además de la creación de una nuevas áreas industriales en otras partes de la Isla.
Respecto al uso turístico vemos también la escasa indecencia territorial de los suelos urbanos especializados en este uso, destacando Los Cancajos, como la mayor extensión de suelo urbano turístico y Puerto Naos, junto a otras localizaciones de menor importancia en Breña Baja o Charco Verde (clasificado como suelo urbano pese a la ausencia de edificación). Las previsiones de suelo urbanizable de uso turístico, contenidas en el planeamiento local o en el PTEOAT, amplían considerablemente la cantidad de suelo con este destino, tendiendo a reforzar las localizaciones existentes, en particular Los Cancajos y Puerto Naos, donde se prevén las mayores extensiones y en menor medida nuevas localizaciones, en algunos casos ya consolidadas. Entre las nuevas áreas de suelo urbanizable destacamos las localizaciones turísticas coincidentes entre el planeamiento
local y el PTEOAT, en Fuencaliente, Barlovento, otras que sólo aparecen en el planeamiento local como las amplias áreas de Los Llanos de Aridane y otras menores en Villa de Mazo, Puntallana y Garafía.
Cabe destacar la gran incidencia de los asentamientos rurales y agrícolas, que suponen la
ocupación de importante superficie, a menudo con densidades extremadamente bajas e incluso ocupando amplias áreas no edificadas. Esta clasificación tiende a avalar las dinámicas de dispersión y de construcción de residencia en suelo rústico. El estudio más detallado de los criterios y formas de estos asentamientos es un objetivo prioritario del Plan, como base para establecer criterios que regulen esta tendencia, así como bases homogéneas para la delimitación de los núcleos rurales y agrícolas por parte de los planes generales municipales.
Son visibles distintos grados de evolución en la formación y transformación de los asentamientos
que nos permiten la previsión de los criterios a establecer.
Se pone de relieve la gran concentración de usos y actividades en el centro de la Isla, y la escasa
ocupación del suelo en los extremos Norte y Sur. Una primera aproximación dibuja ya unas áreas
centrales, al Este y al Oeste, donde se concentra el suelo ocupado, así como las previsiones de
nuevas ocupaciones, con independencia del uso de que se trate, residencial, industrial o turístico.
Copyright Text: Cabildo Insular de La Palma
Spatial Reference: 102100 (3857)
Legend
All Layers and Tables
Layers:
Single Fused Map Cache: true
Export Tiles Allowed: False
Max Tiles Export Count: 100000
Cache on Demand: False
Tile Info:
- Height: 256
- Width: 256
- DPI: 96
- Levels of Detail: (# Levels: 23)
- Level ID: 0 [Start Tile,End Tile]
- Resolution: 156543.033928
- Scale: 591657527.591555
- Level ID: 1 [Start Tile,End Tile]
- Resolution: 78271.5169639999
- Scale: 295828763.795777
- Level ID: 2 [Start Tile,End Tile]
- Resolution: 39135.7584820001
- Scale: 147914381.897889
- Level ID: 3 [Start Tile,End Tile]
- Resolution: 19567.8792409999
- Scale: 73957190.948944
- Level ID: 4 [Start Tile,End Tile]
- Resolution: 9783.93962049996
- Scale: 36978595.474472
- Level ID: 5 [Start Tile,End Tile]
- Resolution: 4891.96981024998
- Scale: 18489297.737236
- Level ID: 6 [Start Tile,End Tile]
- Resolution: 2445.98490512499
- Scale: 9244648.868618
- Level ID: 7 [Start Tile,End Tile]
- Resolution: 1222.99245256249
- Scale: 4622324.434309
- Level ID: 8 [Start Tile,End Tile]
- Resolution: 611.49622628138
- Scale: 2311162.217155
- Level ID: 9 [Start Tile,End Tile]
- Resolution: 305.748113140558
- Scale: 1155581.108577
- Level ID: 10 [Start Tile,End Tile]
- Resolution: 152.874056570411
- Scale: 577790.554289
- Level ID: 11 [Start Tile,End Tile]
- Resolution: 76.4370282850732
- Scale: 288895.277144
- Level ID: 12 [Start Tile,End Tile]
- Resolution: 38.2185141425366
- Scale: 144447.638572
- Level ID: 13 [Start Tile,End Tile]
- Resolution: 19.1092570712683
- Scale: 72223.819286
- Level ID: 14 [Start Tile,End Tile]
- Resolution: 9.55462853563415
- Scale: 36111.909643
- Level ID: 15 [Start Tile,End Tile]
- Resolution: 4.77731426794937
- Scale: 18055.954822
- Level ID: 16 [Start Tile,End Tile]
- Resolution: 2.38865713397468
- Scale: 9027.977411
- Level ID: 17 [Start Tile,End Tile]
- Resolution: 1.19432856685505
- Scale: 4513.988705
- Level ID: 18 [Start Tile,End Tile]
- Resolution: 0.597164283559817
- Scale: 2256.994353
- Level ID: 19 [Start Tile,End Tile]
- Resolution: 0.298582141647617
- Scale: 1128.497176
- Level ID: 20 [Start Tile,End Tile]
- Resolution: 0.149291070823808
- Scale: 564.248588
- Level ID: 21 [Start Tile,End Tile]
- Resolution: 0.0746455354119042
- Scale: 282.124294
- Level ID: 22 [Start Tile,End Tile]
- Resolution: 0.0373227677059521
- Scale: 141.062147
- Format: PNG32
- Compression Quality: 0
- Origin:
- X: -20037508.342787
- Y: 20037508.342787
Spatial Reference: 102100 (3857)
Initial Extent:
XMin: -2004856.05616637
YMin: 3328333.64786983
XMax: -1972239.16396926
YMax: 3358021.73025759
Full Extent:
XMin: -2004856.05616637
YMin: 3305740.36237253
XMax: -1972239.16396926
YMax: 3358021.73025759
Min. Scale: 144448
Max. Scale: 4513
Min LOD: 12
Max LOD: 17
Units: esriMeters
Supported Image Format Types:
Supported Operations:
Export Tiles