Current Version
Service Description: Protection mechanism category-fee simple, internal designations, easements, leases and agreements, and Marine Areas. Proclamation outlines.
Abstract: The Protected Areas Database of the United States (PAD-US) is the official inventory of public parks and other protected open space. PAD-US is published by the U.S. Geological Survey (USGS) Science Analytics and Synthesis (SAS), Gap Analysis Project (GAP). GAP produces data and tools that help meet critical national challenges such as biodiversity conservation, recreation, public health, climate change adaptation, and infrastructure investment. See the GAP webpage for more information about GAP and other GAP data including species and land cover.
PAD-US aggregates data for known protected areas whose primary purpose is biodiversity conservation, as well as lands and waters that provide public access to nature. This content describes the PAD-US 3.0 dataset at https://doi.org/10.5066/P9Q9LQ4B, which is in the public domain. It is intended for use with the PAD-US Explorer. Users are obligated to follow the terms of use of the PAD-US Explorer and any accompanying content.
Key attribution includes:
- Category
- Owner Type
- Owner Name
- Local Owner
- Manager Type
- Manager Name
- Local Manager
- Designation Type
- Local Designation
- Unit Name
- Local Name
- Aggregator Source
- GIS Source
- GIS Source Date
- Public Access
- GAP Status Code - Status 1, 2, 3 or 4
- GAP Status Description
- Date of Establishment
- IUCN Category - International Union for Conservation of Nature (IUCN) Description - I: Strict Nature Reserve, II: National Park, III: Natural Monument or Feature, IV: Habitat/Species Management Area, V: Protected Landscape/Seascape, VI: Protected area with sustainable use of natural resources, Other conservation area, Unassigned
Metadata URI: https://www.arcgis.com/sharing/rest/content/items/1a4bd1eb498745d8a0d6e1b3d4bbee87/info/metadata/metadata.xml?format=default
Keywords: PAD-US, PADUS, GAP, protected areas, protected lands, protected waters
Map Name: PADUS3_0ProtectionMechanismCategory
Capabilities: Map,ChangeTracking,TilesOnly,Tilemap
Description: The Protected Areas Database of the United States (PAD-US) is the official inventory of public parks and other protected open space. PAD-US is published by the U.S. Geological Survey (USGS) Science Analytics and Synthesis (SAS), Gap Analysis Project (GAP). GAP produces data and tools that help meet critical national challenges such as biodiversity conservation, recreation, public health, climate change adaptation, and infrastructure investment. See the GAP webpage for more information about GAP and other GAP data including species and land cover.
PAD-US aggregates data for known protected areas whose primary purpose is biodiversity conservation, as well as lands and waters that provide public access to nature. This content describes the PAD-US 3.0 dataset at https://doi.org/10.5066/P9Q9LQ4B, which is in the public domain. It is intended for use with the PAD-US Explorer. Users are obligated to follow the terms of use of the PAD-US Explorer and any accompanying content.
Key attribution includes:
- Category
- Owner Type
- Owner Name
- Local Owner
- Manager Type
- Manager Name
- Local Manager
- Designation Type
- Local Designation
- Unit Name
- Local Name
- Aggregator Source
- GIS Source
- GIS Source Date
- Public Access
- GAP Status Code - Status 1, 2, 3 or 4
- GAP Status Description
- Date of Establishment
- IUCN Category - International Union for Conservation of Nature (IUCN) Description - I: Strict Nature Reserve, II: National Park, III: Natural Monument or Feature, IV: Habitat/Species Management Area, V: Protected Landscape/Seascape, VI: Protected area with sustainable use of natural resources, Other conservation area, Unassigned
Copyright Text: U.S. Geological Survey (USGS) Gap Analysis Project (GAP), 2022, Protected Areas Database of the United States (PAD-US) 3.0: U.S. Geological Survey (USGS), https://doi.org/10.5066/P9Q9LQ4B .
Spatial Reference: 102100 (3857)
Legend
All Layers and Tables
Layers:
Single Fused Map Cache: true
Export Tiles Allowed: False
Max Tiles Export Count: 100000
Cache on Demand: True
Tile Info:
- Height: 256
- Width: 256
- DPI: 96
- Levels of Detail: (# Levels: 23)
- Level ID: 0 [Start Tile,End Tile]
- Resolution: 156543.033928
- Scale: 591657527.591555
- Level ID: 1 [Start Tile,End Tile]
- Resolution: 78271.5169639999
- Scale: 295828763.795777
- Level ID: 2 [Start Tile,End Tile]
- Resolution: 39135.7584820001
- Scale: 147914381.897889
- Level ID: 3 [Start Tile,End Tile]
- Resolution: 19567.8792409999
- Scale: 73957190.948944
- Level ID: 4 [Start Tile,End Tile]
- Resolution: 9783.93962049996
- Scale: 36978595.474472
- Level ID: 5 [Start Tile,End Tile]
- Resolution: 4891.96981024998
- Scale: 18489297.737236
- Level ID: 6 [Start Tile,End Tile]
- Resolution: 2445.98490512499
- Scale: 9244648.868618
- Level ID: 7 [Start Tile,End Tile]
- Resolution: 1222.99245256249
- Scale: 4622324.434309
- Level ID: 8 [Start Tile,End Tile]
- Resolution: 611.49622628138
- Scale: 2311162.217155
- Level ID: 9 [Start Tile,End Tile]
- Resolution: 305.748113140558
- Scale: 1155581.108577
- Level ID: 10 [Start Tile,End Tile]
- Resolution: 152.874056570411
- Scale: 577790.554289
- Level ID: 11 [Start Tile,End Tile]
- Resolution: 76.4370282850732
- Scale: 288895.277144
- Level ID: 12 [Start Tile,End Tile]
- Resolution: 38.2185141425366
- Scale: 144447.638572
- Level ID: 13 [Start Tile,End Tile]
- Resolution: 19.1092570712683
- Scale: 72223.819286
- Level ID: 14 [Start Tile,End Tile]
- Resolution: 9.55462853563415
- Scale: 36111.909643
- Level ID: 15 [Start Tile,End Tile]
- Resolution: 4.77731426794937
- Scale: 18055.954822
- Level ID: 16 [Start Tile,End Tile]
- Resolution: 2.38865713397468
- Scale: 9027.977411
- Level ID: 17 [Start Tile,End Tile]
- Resolution: 1.19432856685505
- Scale: 4513.988705
- Level ID: 18 [Start Tile,End Tile]
- Resolution: 0.597164283559817
- Scale: 2256.994353
- Level ID: 19 [Start Tile,End Tile]
- Resolution: 0.298582141647617
- Scale: 1128.497176
- Level ID: 20 [Start Tile,End Tile]
- Resolution: 0.149291070823808
- Scale: 564.248588
- Level ID: 21 [Start Tile,End Tile]
- Resolution: 0.0746455354119042
- Scale: 282.124294
- Level ID: 22 [Start Tile,End Tile]
- Resolution: 0.0373227677059521
- Scale: 141.062147
- Format: PNG32
- Compression Quality: 0
- Origin:
- X: -20037508.342787
- Y: 20037508.342787
Spatial Reference: 102100 (3857)
Initial Extent:
XMin: -11319560.1953534
YMin: 5776432.21334882
XMax: -10889091.5573139
YMax: 6210257.33199683
Full Extent:
XMin: -20037507.0642
YMin: -1733741.4413
XMax: 20037507.1406
YMax: 12930677.5531
Min. Scale: 50000000
Max. Scale: 750000
Min LOD: 4
Max LOD: 9
Units: esriMeters
Supported Image Format Types:
Supported Operations:
Export Tiles