Current Version
Service Description: Canadian Federal Election 2015
Abstract: N/A
Metadata URI: N/A
Keywords:
Map Name: Canadian_Federal_Election_2015_Tiles
Capabilities: Map,TilesOnly,Tilemap
Description:
Copyright Text:
Spatial Reference: 3978 (3978)
Legend
All Layers and Tables
Layers:
Single Fused Map Cache: true
Export Tiles Allowed: False
Max Tiles Export Count: 100000
Cache on Demand: False
Tile Info:
- Height: 256
- Width: 256
- DPI: 96
- Levels of Detail: (# Levels: 18)
- Level ID: 0 [Start Tile,End Tile]
- Resolution: 38364.6600626535
- Scale: 145000000
- Level ID: 1 [Start Tile,End Tile]
- Resolution: 22489.62831259
- Scale: 85000000
- Level ID: 2 [Start Tile,End Tile]
- Resolution: 13229.1931250529
- Scale: 50000000
- Level ID: 3 [Start Tile,End Tile]
- Resolution: 7937.51587503175
- Scale: 30000000
- Level ID: 4 [Start Tile,End Tile]
- Resolution: 4630.21759376852
- Scale: 17500000
- Level ID: 5 [Start Tile,End Tile]
- Resolution: 2645.83862501058
- Scale: 10000000
- Level ID: 6 [Start Tile,End Tile]
- Resolution: 1587.50317500635
- Scale: 6000000
- Level ID: 7 [Start Tile,End Tile]
- Resolution: 926.043518753704
- Scale: 3500000
- Level ID: 8 [Start Tile,End Tile]
- Resolution: 529.167725002117
- Scale: 2000000
- Level ID: 9 [Start Tile,End Tile]
- Resolution: 317.50063500127
- Scale: 1200000
- Level ID: 10 [Start Tile,End Tile]
- Resolution: 185.208703750741
- Scale: 700000
- Level ID: 11 [Start Tile,End Tile]
- Resolution: 111.125222250445
- Scale: 420000
- Level ID: 12 [Start Tile,End Tile]
- Resolution: 66.1459656252646
- Scale: 250000
- Level ID: 13 [Start Tile,End Tile]
- Resolution: 38.3646600626535
- Scale: 145000
- Level ID: 14 [Start Tile,End Tile]
- Resolution: 22.48962831259
- Scale: 85000
- Level ID: 15 [Start Tile,End Tile]
- Resolution: 13.2291931250529
- Scale: 50000
- Level ID: 16 [Start Tile,End Tile]
- Resolution: 7.93751587503175
- Scale: 30000
- Level ID: 17 [Start Tile,End Tile]
- Resolution: 4.63021759376852
- Scale: 17500
- Format: PNG
- Compression Quality: 0
- Origin:
Spatial Reference: 3978 (3978)
Initial Extent:
XMin: -3706875.1078813
YMin: -954610.837738397
XMax: 4376601.84888131
YMax: 4061475.3095384
Full Extent:
XMin: -2340994.8907
YMin: -723421.250599999
XMax: 3010721.6317
YMax: 3830285.7224
Min. Scale: 591657527.591555
Max. Scale: 4513.988705
Min LOD: 0
Max LOD: 17
Units: esriMeters
Supported Image Format Types:
Supported Operations:
Export Tiles