Current Version
Service Description: This feature class represents key attributes that are important for working forests. This is for version 1.0 of the spatial design process of the Cascades to...
Abstract: N/A
Metadata URI: N/A
Keywords:
Map Name: Working_Lands_Characteristics_Site_Class_Feature
Capabilities: Map,ChangeTracking,TilesOnly,Tilemap
Description: Overview of Spatial Design Goals and Process: A key principle of Landscape Conservation Design is that “Stakeholders design landscape configurations that promote resilient and sustainable social-ecological systems” (Campellone et al, 2018). From Campellone et al: (2018): “A beneficial aspect of stakeholder engagement in spatial design is the development of a deeper trust that the models used to identify priorities integrate their interests with other information and knowledge, which furthers social learning and collective agreement on resource allocation and landscape objectives (Melillo et al., 2014). Overall, the co-development of a spatial design helps organize landscape elements while maintaining and improving stakeholder buy-in (De Groot, Alkemade, Braat, Hein, & Willemen, 2009; Melillo et al., 2014).”Analytical Question: Create a prototype landscape design that integrates multiple values on the landscape including wildlife conservation, forest and agriculture production, recreation, cultural and human health. The prototype will be created based upon readily available data. This analysis will be used to understand landscape-scale conservation and working landscape priorities, while incorporating other important values. The blueprint will be used to represent a sustainable landscape in the future. We can include social network perspective as part of a potential suite of design products, such as implementation capacity.Desired Outcome: A map or maps that represents a balance of multiple values on the landscape, with a focus on conservation and working landscape values.
Copyright Text: Tom Miewald, USFWS; Erin Butts, USFWS; John Mankowski, Mankowski Environmental.
Spatial Reference: 102100 (3857)
Legend
All Layers and Tables
Layers:
Single Fused Map Cache: true
Export Tiles Allowed: False
Max Tiles Export Count: 100000
Cache on Demand: True
Tile Info:
- Height: 256
- Width: 256
- DPI: 96
- Levels of Detail: (# Levels: 23)
- Level ID: 0 [Start Tile,End Tile]
- Resolution: 156543.033928
- Scale: 591657527.591555
- Level ID: 1 [Start Tile,End Tile]
- Resolution: 78271.5169639999
- Scale: 295828763.795777
- Level ID: 2 [Start Tile,End Tile]
- Resolution: 39135.7584820001
- Scale: 147914381.897889
- Level ID: 3 [Start Tile,End Tile]
- Resolution: 19567.8792409999
- Scale: 73957190.948944
- Level ID: 4 [Start Tile,End Tile]
- Resolution: 9783.93962049996
- Scale: 36978595.474472
- Level ID: 5 [Start Tile,End Tile]
- Resolution: 4891.96981024998
- Scale: 18489297.737236
- Level ID: 6 [Start Tile,End Tile]
- Resolution: 2445.98490512499
- Scale: 9244648.868618
- Level ID: 7 [Start Tile,End Tile]
- Resolution: 1222.99245256249
- Scale: 4622324.434309
- Level ID: 8 [Start Tile,End Tile]
- Resolution: 611.49622628138
- Scale: 2311162.217155
- Level ID: 9 [Start Tile,End Tile]
- Resolution: 305.748113140558
- Scale: 1155581.108577
- Level ID: 10 [Start Tile,End Tile]
- Resolution: 152.874056570411
- Scale: 577790.554289
- Level ID: 11 [Start Tile,End Tile]
- Resolution: 76.4370282850732
- Scale: 288895.277144
- Level ID: 12 [Start Tile,End Tile]
- Resolution: 38.2185141425366
- Scale: 144447.638572
- Level ID: 13 [Start Tile,End Tile]
- Resolution: 19.1092570712683
- Scale: 72223.819286
- Level ID: 14 [Start Tile,End Tile]
- Resolution: 9.55462853563415
- Scale: 36111.909643
- Level ID: 15 [Start Tile,End Tile]
- Resolution: 4.77731426794937
- Scale: 18055.954822
- Level ID: 16 [Start Tile,End Tile]
- Resolution: 2.38865713397468
- Scale: 9027.977411
- Level ID: 17 [Start Tile,End Tile]
- Resolution: 1.19432856685505
- Scale: 4513.988705
- Level ID: 18 [Start Tile,End Tile]
- Resolution: 0.597164283559817
- Scale: 2256.994353
- Level ID: 19 [Start Tile,End Tile]
- Resolution: 0.298582141647617
- Scale: 1128.497176
- Level ID: 20 [Start Tile,End Tile]
- Resolution: 0.149291070823808
- Scale: 564.248588
- Level ID: 21 [Start Tile,End Tile]
- Resolution: 0.0746455354119042
- Scale: 282.124294
- Level ID: 22 [Start Tile,End Tile]
- Resolution: 0.0373227677059521
- Scale: 141.062147
- Format: PNG32
- Compression Quality: 0
- Origin:
- X: -20037508.342787
- Y: 20037508.342787
Spatial Reference: 102100 (3857)
Initial Extent:
XMin: -14467306.226074
YMin: 5338891.7241057
XMax: -12953168.1283322
YMax: 6024403.01537883
Full Extent:
XMin: -14145050.3276379
YMin: 5129267.55012724
XMax: -13307660.6362085
YMax: 6274180.68614721
Min. Scale: 9972387
Max. Scale: 141.062147
Min LOD: 6
Max LOD: 22
Units: esriMeters
Supported Image Format Types:
Supported Operations:
Export Tiles